BEGIN:VCALENDAR
VERSION:2.0
PRODID:-//Družina in Življenje - ECPv6.15.18//NONSGML v1.0//EN
CALSCALE:GREGORIAN
METHOD:PUBLISH
X-ORIGINAL-URL:https://www.diz.si
X-WR-CALDESC:Dogodki za Družina in Življenje
REFRESH-INTERVAL;VALUE=DURATION:PT1H
X-Robots-Tag:noindex
X-PUBLISHED-TTL:PT1H
BEGIN:VTIMEZONE
TZID:Europe/Ljubljana
BEGIN:DAYLIGHT
TZOFFSETFROM:+0100
TZOFFSETTO:+0200
TZNAME:CEST
DTSTART:20250330T010000
END:DAYLIGHT
BEGIN:STANDARD
TZOFFSETFROM:+0200
TZOFFSETTO:+0100
TZNAME:CET
DTSTART:20251026T010000
END:STANDARD
BEGIN:DAYLIGHT
TZOFFSETFROM:+0100
TZOFFSETTO:+0200
TZNAME:CEST
DTSTART:20260329T010000
END:DAYLIGHT
BEGIN:STANDARD
TZOFFSETFROM:+0200
TZOFFSETTO:+0100
TZNAME:CET
DTSTART:20261025T010000
END:STANDARD
BEGIN:DAYLIGHT
TZOFFSETFROM:+0100
TZOFFSETTO:+0200
TZNAME:CEST
DTSTART:20270328T010000
END:DAYLIGHT
BEGIN:STANDARD
TZOFFSETFROM:+0200
TZOFFSETTO:+0100
TZNAME:CET
DTSTART:20271031T010000
END:STANDARD
END:VTIMEZONE
BEGIN:VEVENT
DTSTART;TZID=Europe/Ljubljana:20260508T000000
DTEND;TZID=Europe/Ljubljana:20260510T235959
DTSTAMP:20260420T182021
CREATED:20251111T122513Z
LAST-MODIFIED:20260326T052033Z
UID:53278-1778198400-1778457599@www.diz.si
SUMMARY:Božje kraljestvo je v vas\, 8.-10. 5. 2026\, Veržej
DESCRIPTION:Nadaljevalni seminar Božje kraljestvo je v vas (Lk 17\,21)\n\n\n\nPoglobljen seminar\, ki ponuja odkrivanje resnice o Božjem kraljestvu v nas\, kar predstavlja temelj za gradnjo odnosov\, za katere je vredno živeti. Skozi premišljevanja bomo utrjevali temelje svoje identitete\, zakonske zaveze in poslanstva\, da bi v svoj dom in svet prinašali mir in veselje Božje navzočnosti. \n\n\n\n\n\n\n\n\n\n\n\nSeminar vodita Dani in Vilma Siter\, ustanovitelja Družine in Življenja\, ki za vsako sezono pripravita novo\, navdihujočo temo. \n\n\n\n\n\n\n\n\n\nSeminar lahko konkretno vpliva na izboljšanje odnosov\, saj obravnava naslednja bistvena vsebinska področja: \n\n\n\n\nUtrjevanje osebne identitete Božjega otroka (po krstu) in gradnja na Jezusu Kristusu kot edinem pravem temelju duhovne stavbe.\n\n\n\nSpoznavanje Božje ljubezni in negovanje “priključenosti” na Boga v vsakdanji molitvi in Božji besedi\, saj je Bog vir življenja in ljubezni.\n\n\n\nRazumevanje\, da je življenje boj dveh kraljestev in usposabljanje za uporabo celotne Božje bojne opreme v tem boju.\n\n\n\nRazumevanje\, da je odpuščanje temeljna karakteristika kristjana in da brez pretočnosti milosti ne more priti Božje kraljestvo na zemljo.\n\n\n\nKako v zakonu obnavljati zavezo s tem\, da mož ljubi in žena spoštuje\, s čimer se neguje Božje kraljestvo med zakoncema.\n\n\n\nSpoznanje\, da smo poklicani\, da pričevanjsko živimo evangelij in da se oznanjevanje začne doma\, sredi družine.\n\n\n\n\n\n\n\n\n\n\n\n\n\n\nSeminarja se lahko udeležita le\, če sta se že udeležila temeljnega seminarja Nepozabni trenutki za naju. \n\n\n\n\n\n\n\n\n\nVEČ O SEMINARJURada bi izvedela več >\n\n\n\n\n\nPOGOSTA VPRAŠANJAMorda zanima tudi vaju >\n\n\n\n\n\nDODATNE INFORMACIJEbrigita@diz.si\, 070 410 555\n\n\n\n\n\n\n\n\n\nPrijava na seminar\n\n\n\nPogoj za prijavo je udeležba na temeljnem seminarju Nepozabni trenutki za naju. \n\n\n\nCena seminarja: 271\,00 € \n\n\n\nCena vključuje (cenik): \n\n\n\n\nkotizacijo: 85\,00 €\n\n\n\nnamestitev\, dva polna penziona za dve osebi\, turistična taksa: 186\,00 €\n\n\n\n\nInformacija o odpovedi: Brezplačna odjava s seminarja je možna vsaj 14 dni pred začetkom seminarja\, sicer se kotizacija žal ne povrne. \n\n\n\nPRIJAVNICA\n\n\n\n\n\n                \n                        \n                            Božje kraljestvo je v vas - 8.-10. 5. 2026 - Veržej\n							"*" označuje obvezna polja \n                        \n                        InstagramThis field is for validation purposes and should be left unchanged.Če so vsa prosta mesta zasedena\, vpisujemo na ČAKALNO LISTO:Status*PRIJAVA NA PROSTO MESTOPrijava NA ČAKALNO LISTO (ko prijava na prosto mesto ni več na voljo)Ime in priimek moža*\n                            \n                            \n                                                    \n                                                    First\n                                                \n                            \n                            \n                                                    \n                                                    Last\n                                                \n                            \n                        Ime in priimek žene*\n                            \n                            \n                                                    \n                                                    First\n                                                \n                            \n                            \n                                                    \n                                                    Last\n                                                \n                            \n                        Naslov*Kraj*    \n                    \n                        \n                                    \n                                    City\n                                 \n                                    \n                                    ZIP / Postal Code\n                                \n                    \n                E-pošta moža*\n                            \n                        E-pošta žene*\n                            \n                        Telefon moža*Telefon žene*OpombeAli sta se že udeležila temeljnega seminarja Nepozabni trenutki za naju? (Obvezno.)*\n								\n								Da.\n							\nVarstvo otrok\nNa tem seminarju BO za razliko od drugih terminov in lokacij organizirano varstvo za otroke. V primeru\, da pridejo otroci z vama\, označite naslednje polje in nato vpišite podatke: DojenčekNa seminarjih NE organiziramo varstva za otroke. Izjema so dojenčki oziroma malčki\, ki ne zmorejo brez mame.\n								\n								S seboj bova imela tudi dojenčka.\n							Imena in starost otrok\nNaslednji dve vprašanji sta informativne narave - za voditelje seminarja: This field is hidden when viewing the formKoliko so stari vajini otroci?Zgolj informativno za voditelje seminarja.This field is hidden when viewing the formImata kakšno vprašanje\, ki bi ga rada naslovila na voditelje seminarja?Kotizacija za par\n					\n					\n						Znesek:\n						\n					\n					\n				Način plačila\nOd nas bosta prejela račun za kotizacijo. Prispevek za bivanje in prehrano (polni penzion) bosta poravnala na seminarju. Izberita\, na kakšen način želita poravnati kotizacijo:Račun za kotizacijo želiva poravnati*Račun za kotizacijo želiva poravnati *Nakazilo na TRR (račun po e-pošti)Imava darilni bon / Prenos kotizacijeProsimo\, vpišita\, kdo je plačnik darilnega bona / Oz. vpišita seminar\, s katerega prenašata kotizacijoZ vami bo stopila v stik naša sodelavka in se boste dogovorili vse podrobnosti.Splošni pogoji*\n								\n								Strinjam se z navedenimi pogoji\, s splošnimi pogoji in sem seznanjen z varstvom osebnih podatkov. *\n							CAPTCHA\n          \n            \n            \n            \n            \n            \n            \n            \n            \n            \n            \n            \n            \n            \n        \n                        Δ
URL:https://www.diz.si/dogodek/bozje-kraljestvo-je-v-vas-8-10-5-2026-verzej/
CATEGORIES:Božje kraljestvo je v vas,Seminarji
ATTACH;FMTTYPE=image/jpeg:https://www.diz.si/wp-content/uploads/2025/04/NS-Bozje-kraljestvo-naslovna.webp
END:VEVENT
BEGIN:VEVENT
DTSTART;TZID=Europe/Ljubljana:20261106T000000
DTEND;TZID=Europe/Ljubljana:20261108T235959
DTSTAMP:20260420T182021
CREATED:20260321T102626Z
LAST-MODIFIED:20260322T095207Z
UID:54605-1793923200-1794182399@www.diz.si
SUMMARY:Sredi hrupa prepoznati Božji glas\, 6.-8. 11. 2026\, Crikvenica
DESCRIPTION:Nadaljevalni seminar Sredi hrupa prepoznati Božji glas\n\n\n\nNov poglobljen seminar\, ki ga vodita Dani in Vilma Siter\, ustanovitelja Družine in Življenja\, ki za vsako sezono pripravita novo\, navdihujočo temo. \n\n\n\nSeminar lahko konkretno vpliva na izboljšanje odnosov\, več podrobnosti pa še sledi … 😉 \n\n\n\n\n\n\n\n\n\n\n\n\n\n\n\n\n\n\n\n\n\nSeminarja se lahko udeležita le\, če sta se že udeležila temeljnega seminarja Nepozabni trenutki za naju. \n\n\n\n\n\n\n\nPOSEBNOST: otroško varstvo!\n\n\n\nNa tej izvedbi nadaljevalnega seminarja bo izjemoma organizirano tudi varstvo za otroke. \n\n\n\n\n\n\n\n\n\nVEČ O SEMINARJURada bi izvedela več >\n\n\n\n\n\nPOGOSTA VPRAŠANJAMorda zanima tudi vaju >\n\n\n\n\n\nDODATNE INFORMACIJEbrigita@diz.si\, 070 410 555\n\n\n\n\n\n\n\n\n\nPrijava na seminar\n\n\n\nPogoj za prijavo je udeležba na temeljnem seminarju Nepozabni trenutki za naju. \n\n\n\nCena seminarja: od 295\,00 € \n\n\n\nCena vključuje (cenik): \n\n\n\n\nkotizacijo: 85\,00 €\, če prideta sama\, oz. 115\,00 €\, če pridejo z vama otroci (pošljemo račun\, DDV je vključen)\n\n\n\nnamestitev in dva polna penziona za dve osebi: 210\,00 €\n\n\n\nceno za družino si izračunajte po ceniku\n\n\n\n\nInformacija o odpovedi: Brezplačna odjava s seminarja je možna vsaj 14 dni pred začetkom seminarja\, sicer se kotizacija žal ne povrne. \n\n\n\nPRIJAVNICA\n\n\n\n                \n                        \n                            Sredi hrupa prepoznati Božji glas – 6.-8. 11. 2026 – Crikvenica\n                             \n							"*" označuje obvezna polja \n                        \n                        X/TwitterThis field is for validation purposes and should be left unchanged.Če so vsa prosta mesta zasedena\, vpisujemo na ČAKALNO LISTO:Status*PRIJAVA NA PROSTO MESTOPrijava NA ČAKALNO LISTO (ko prijava na prosto mesto ni več na voljo)Ime in priimek moža*\n                            \n                            \n                                                    \n                                                    First\n                                                \n                            \n                            \n                                                    \n                                                    Last\n                                                \n                            \n                        Ime in priimek žene*\n                            \n                            \n                                                    \n                                                    First\n                                                \n                            \n                            \n                                                    \n                                                    Last\n                                                \n                            \n                        Naslov*Kraj*    \n                    \n                        \n                                    \n                                    City\n                                 \n                                    \n                                    ZIP / Postal Code\n                                \n                    \n                E-pošta moža*\n                            \n                        E-pošta žene*\n                            \n                        Telefon moža*Telefon žene*OpombeAli sta se že udeležila temeljnega seminarja Nepozabni trenutki za naju? (Obvezno.)*\n								\n								Da.\n							\nVarstvo otrok\nNa tem seminarju BO za razliko od drugih terminov in lokacij organizirano varstvo za otroke. V primeru\, da pridejo otroci z vama\, označite naslednje polje in nato vpišite podatke: This field is hidden when viewing the formOtroci\n								\n								S seboj bova imela tudi otroka.\n							To polje nujno označita v primeru\, če pridejo otroci z vama na seminar. V naslednje okence vpišite tudi njihove podatke.Imena in starost otrok\, ki pridejo z vama\nNaslednji dve vprašanji sta informativne narave – za voditelje seminarja: This field is hidden when viewing the formKoliko so stari vajini otroci?Zgolj informativno za voditelje seminarja.This field is hidden when viewing the formImata kakšno vprašanje\, ki bi ga rada naslovila na voditelje seminarja?Kotizacija za par\n					\n					\n						Znesek:\n						\n					\n					\n				Kotizacija za par z otroki\n					\n					\n						Znesek:\n						\n					\n					\n				Način plačila\nOd nas bosta prejela račun za kotizacijo. Prispevek za bivanje in prehrano (polni penzion) bosta poravnala na seminarju. Izberita\, na kakšen način želita poravnati kotizacijo:Račun za kotizacijo želiva poravnati*Račun za kotizacijo želiva poravnati *Nakazilo na TRR (račun po e-pošti)Imava darilni bon / Prenos kotizacijeProsimo\, vpišita\, kdo je plačnik darilnega bona / Oz. vpišita seminar\, s katerega prenašata kotizacijoZ vami bo stopila v stik naša sodelavka in se boste dogovorili vse podrobnosti.Splošni pogoji*\n								\n								Strinjam se z navedenimi pogoji\, s splošnimi pogoji in sem seznanjen z varstvom osebnih podatkov. *\n							CAPTCHA\n          \n            \n            \n            \n            \n            \n            \n            \n            \n            \n            \n            \n            \n            \n        \n                        Δ
URL:https://www.diz.si/dogodek/sredi-hrupa-prepoznati-bozji-glas-6-8-11-2026-crikvenica/
CATEGORIES:Seminarji,Sredi hrupa prepoznati Božji glas
ATTACH;FMTTYPE=image/jpeg:https://www.diz.si/wp-content/uploads/2026/03/nadaljevalni-seminar-2026-27-naslovna.webp
END:VEVENT
BEGIN:VEVENT
DTSTART;TZID=Europe/Ljubljana:20261120T000000
DTEND;TZID=Europe/Ljubljana:20261122T235959
DTSTAMP:20260420T182021
CREATED:20260321T112941Z
LAST-MODIFIED:20260324T091415Z
UID:54614-1795132800-1795391999@www.diz.si
SUMMARY:Sredi hrupa prepoznati Božji glas\, 20.-22. 11. 2026\, Crikvenica
DESCRIPTION:Nadaljevalni seminar Sredi hrupa prepoznati Božji glas\n\n\n\nNov poglobljen seminar\, ki ga vodita Dani in Vilma Siter\, ustanovitelja Družine in Življenja\, ki za vsako sezono pripravita novo\, navdihujočo temo. \n\n\n\nSeminar lahko konkretno vpliva na izboljšanje odnosov\, več podrobnosti pa še sledi … 😉 \n\n\n\n\n\n\n\n\n\n\n\n\n\n\n\n\n\n\n\n\n\nSeminarja se lahko udeležita le\, če sta se že udeležila temeljnega seminarja Nepozabni trenutki za naju. \n\n\n\n\n\n\n\n\n\nVEČ O SEMINARJURada bi izvedela več >\n\n\n\n\n\nPOGOSTA VPRAŠANJAMorda zanima tudi vaju >\n\n\n\n\n\nDODATNE INFORMACIJEbrigita@diz.si\, 070 410 555\n\n\n\n\n\n\n\n\n\nPrijava na seminar\n\n\n\nPogoj za prijavo je udeležba na temeljnem seminarju Nepozabni trenutki za naju. \n\n\n\nCena seminarja: 295\,00 € \n\n\n\nCena vključuje (cenik): \n\n\n\n\nkotizacijo: 85\,00 € (pošljemo račun\, DDV je vključen)\n\n\n\nnamestitev in dva polna penziona za dve osebi: 210\,00 €\n\n\n\n\nInformacija o odpovedi: Brezplačna odjava s seminarja je možna vsaj 14 dni pred začetkom seminarja\, sicer se kotizacija žal ne povrne. \n\n\n\nPRIJAVNICA\n\n\n\n                \n                        \n                            Sredi hrupa prepoznati Božji glas – 20.-22. 11. 2026 – Crikvenica\n                             \n							"*" označuje obvezna polja \n                        \n                        CompanyThis field is for validation purposes and should be left unchanged.Če so vsa prosta mesta zasedena\, vpisujemo na ČAKALNO LISTO:Status*PRIJAVA NA PROSTO MESTOPrijava NA ČAKALNO LISTO (ko prijava na prosto mesto ni več na voljo)Ime in priimek moža*\n                            \n                            \n                                                    \n                                                    First\n                                                \n                            \n                            \n                                                    \n                                                    Last\n                                                \n                            \n                        Ime in priimek žene*\n                            \n                            \n                                                    \n                                                    First\n                                                \n                            \n                            \n                                                    \n                                                    Last\n                                                \n                            \n                        Naslov*Kraj*    \n                    \n                        \n                                    \n                                    City\n                                 \n                                    \n                                    ZIP / Postal Code\n                                \n                    \n                E-pošta moža*\n                            \n                        E-pošta žene*\n                            \n                        Telefon moža*Telefon žene*OpombeAli sta se že udeležila temeljnega seminarja Nepozabni trenutki za naju? (Obvezno.)*\n								\n								Da.\n							\nVarstvo otrok\nNa tem seminarju BO za razliko od drugih terminov in lokacij organizirano varstvo za otroke. V primeru\, da pridejo otroci z vama\, označite naslednje polje in nato vpišite podatke: Dojenček\n								\n								S seboj bova imela tudi dojenčka.\n							Na seminarjih NE organiziramo varstva za otroke. Izjema so dojenčki oziroma malčki\, ki ne zmorejo brez mame.Imena in starost otrok\nNaslednji dve vprašanji sta informativne narave – za voditelje seminarja: This field is hidden when viewing the formKoliko so stari vajini otroci?Zgolj informativno za voditelje seminarja.This field is hidden when viewing the formImata kakšno vprašanje\, ki bi ga rada naslovila na voditelje seminarja?Kotizacija za par\n					\n					\n						Znesek:\n						\n					\n					\n				Način plačila\nOd nas bosta prejela račun za kotizacijo. Prispevek za bivanje in prehrano (polni penzion) bosta poravnala na seminarju. Izberita\, na kakšen način želita poravnati kotizacijo:Račun za kotizacijo želiva poravnati*Račun za kotizacijo želiva poravnati *Nakazilo na TRR (račun po e-pošti)Imava darilni bon / Prenos kotizacijeProsimo\, vpišita\, kdo je plačnik darilnega bona / Oz. vpišita seminar\, s katerega prenašata kotizacijoZ vami bo stopila v stik naša sodelavka in se boste dogovorili vse podrobnosti.Splošni pogoji*\n								\n								Strinjam se z navedenimi pogoji\, s splošnimi pogoji in sem seznanjen z varstvom osebnih podatkov. *\n							CAPTCHA\n          \n            \n            \n            \n            \n            \n            \n            \n            \n            \n            \n            \n            \n            \n        \n                        Δ
URL:https://www.diz.si/dogodek/sredi-hrupa-prepoznati-bozji-glas-20-22-11-2026-crikvenica/
CATEGORIES:Seminarji,Sredi hrupa prepoznati Božji glas
ATTACH;FMTTYPE=image/jpeg:https://www.diz.si/wp-content/uploads/2026/03/nadaljevalni-seminar-2026-27-naslovna.webp
END:VEVENT
END:VCALENDAR