BEGIN:VCALENDAR
VERSION:2.0
PRODID:-//Družina in Življenje - ECPv6.15.20//NONSGML v1.0//EN
CALSCALE:GREGORIAN
METHOD:PUBLISH
X-ORIGINAL-URL:https://www.diz.si
X-WR-CALDESC:Dogodki za Družina in Življenje
REFRESH-INTERVAL;VALUE=DURATION:PT1H
X-Robots-Tag:noindex
X-PUBLISHED-TTL:PT1H
BEGIN:VTIMEZONE
TZID:Europe/Ljubljana
BEGIN:DAYLIGHT
TZOFFSETFROM:+0100
TZOFFSETTO:+0200
TZNAME:CEST
DTSTART:20230326T010000
END:DAYLIGHT
BEGIN:STANDARD
TZOFFSETFROM:+0200
TZOFFSETTO:+0100
TZNAME:CET
DTSTART:20231029T010000
END:STANDARD
BEGIN:DAYLIGHT
TZOFFSETFROM:+0100
TZOFFSETTO:+0200
TZNAME:CEST
DTSTART:20240331T010000
END:DAYLIGHT
BEGIN:STANDARD
TZOFFSETFROM:+0200
TZOFFSETTO:+0100
TZNAME:CET
DTSTART:20241027T010000
END:STANDARD
BEGIN:DAYLIGHT
TZOFFSETFROM:+0100
TZOFFSETTO:+0200
TZNAME:CEST
DTSTART:20250330T010000
END:DAYLIGHT
BEGIN:STANDARD
TZOFFSETFROM:+0200
TZOFFSETTO:+0100
TZNAME:CET
DTSTART:20251026T010000
END:STANDARD
END:VTIMEZONE
BEGIN:VEVENT
DTSTART;VALUE=DATE:20240419
DTEND;VALUE=DATE:20240422
DTSTAMP:20260421T212808
CREATED:20231025T205044Z
LAST-MODIFIED:20240114T220536Z
UID:44285-1713484800-1713743999@www.diz.si
SUMMARY:Nepozabni trenutki za naju\, 19.-21. 4. 2024\, Rogla
DESCRIPTION:Temeljni seminar\nNepozabni trenutki za naju\n\n \n\n \n\n \n\n\n \n \n \n\nKatere so pasti življenja v dvoje in kako se jim izogniti?\nKako se pogovarjati in reševati spore\, ne da bi drug drugega prizadela?\nKaj morate vedeti o možu kot žena in kaj o ženi kot mož?\nKako vzpostaviti in vzdrževati intimnost med vama?\n\n \n \n \n \n \n \n \n\nRada bi več podatkov o seminarju.\n \n \n\nPreden pokličeta poglejta odgovore na pogosta vprašanja.\n \n \n\nErika Novak: erika@diz.si ali 041 45 96 66\n \n\n \n \n \n \n \nPrijava na seminar\n \n\nCena seminarja: 367\,00 € \nCena zajema (glej cenik): \n\nkotizacija: 75\,00 € (račun pošljemo v mesecu pred seminarjem);\nnamestitev\, dva polna penziona\, turistična taksa in prijavnina za dve osebi: 292\,00 €\n\n \n \nPrijavnica\n\n \n\nOPOMBA: Pridržujemo si pravico do dodatne omejitve števila udeležencev\, spremembe načina izvedbe ali odpovedi seminarja glede na epidemiološke razmere in državne ukrepe\, ki bodo veljali v času izvedbe seminarjev in dogodkov. Prijavljeni boste o teh spremembah obveščeni po e-pošti.
URL:https://www.diz.si/dogodek/nepozabni-trenutki-za-naju-19-21-4-2024-rogla/
LOCATION:Rogla\, Hotel Rogla\, Rogla 1\, Zreče\, 3214
CATEGORIES:Nepozabni trenutki za naju,Seminarji
ATTACH;FMTTYPE=image/jpeg:https://www.diz.si/wp-content/uploads/NTZN-predstavitvena-3.webp
END:VEVENT
END:VCALENDAR