BEGIN:VCALENDAR
VERSION:2.0
PRODID:-//Družina in Življenje - ECPv6.15.18//NONSGML v1.0//EN
CALSCALE:GREGORIAN
METHOD:PUBLISH
X-WR-CALNAME:Družina in Življenje
X-ORIGINAL-URL:https://www.diz.si
X-WR-CALDESC:Dogodki za Družina in Življenje
REFRESH-INTERVAL;VALUE=DURATION:PT1H
X-Robots-Tag:noindex
X-PUBLISHED-TTL:PT1H
BEGIN:VTIMEZONE
TZID:Europe/Ljubljana
BEGIN:DAYLIGHT
TZOFFSETFROM:+0100
TZOFFSETTO:+0200
TZNAME:CEST
DTSTART:20250330T010000
END:DAYLIGHT
BEGIN:STANDARD
TZOFFSETFROM:+0200
TZOFFSETTO:+0100
TZNAME:CET
DTSTART:20251026T010000
END:STANDARD
BEGIN:DAYLIGHT
TZOFFSETFROM:+0100
TZOFFSETTO:+0200
TZNAME:CEST
DTSTART:20260329T010000
END:DAYLIGHT
BEGIN:STANDARD
TZOFFSETFROM:+0200
TZOFFSETTO:+0100
TZNAME:CET
DTSTART:20261025T010000
END:STANDARD
BEGIN:DAYLIGHT
TZOFFSETFROM:+0100
TZOFFSETTO:+0200
TZNAME:CEST
DTSTART:20270328T010000
END:DAYLIGHT
BEGIN:STANDARD
TZOFFSETFROM:+0200
TZOFFSETTO:+0100
TZNAME:CET
DTSTART:20271031T010000
END:STANDARD
END:VTIMEZONE
BEGIN:VEVENT
DTSTART;TZID=Europe/Ljubljana:20261023T000000
DTEND;TZID=Europe/Ljubljana:20261025T235959
DTSTAMP:20260420T195758
CREATED:20260316T091700Z
LAST-MODIFIED:20260322T084040Z
UID:54550-1792713600-1792972799@www.diz.si
SUMMARY:Nepozabni trenutki za naju\, 23.-25. 10. 2026\, Izola
DESCRIPTION:Temeljni seminar Nepozabni trenutki za naju\n\n\n\n\nKatere so pasti življenja v dvoje in kako se jim izogniti?\n\n\n\nKako se pogovarjati in reševati spore\, ne da bi drug drugega prizadela?\n\n\n\nKaj morate vedeti o možu kot žena in kaj o ženi kot mož?\n\n\n\nKako vzpostaviti in vzdrževati intimnost med vama?\n\n\n\n\nTAKOJ Na prijavo\n\n\n\n\n\nVEČ O SEMINARJURada bi izvedela več >\n\n\n\n\n\nPOGOSTA VPRAŠANJAMorda zanima tudi vaju >\n\n\n\n\n\nDODATNE INFORMACIJEbrigita@diz.si\, 070 410 555\n\n\n\n\n\n\n\n\n\n\n\nPrijava na seminar\n\n\n\nCena seminarja: 380\,00 € \n\n\n\nCena zajema (cenik):– kotizacija: 95\,00 € (pošljemo račun\, DDV je vključen);– namestitev\, dva polna penziona\, turistična taksa in prijavnina za dve osebi: 285\,00 € \n\n\n\nInformacija o odpovedi: Brezplačna odjava s seminarja je možna vsaj 14 dni pred začetkom seminarja\, sicer se kotizacija žal ne povrne. Ob odpovedi do 4 dni pred začetkom seminarja v hotelu zaračunajo 50% stroškov. \n\n\n\n\n\nPrijavnica\n\n\n\n\n                \n                        \n                            Nepozabni trenutki za naju – 23.-25. 10. 2026 – Izola\n                             \n							"*" označuje obvezna polja \n                        \n                        EmailThis field is for validation purposes and should be left unchanged.Če so vsa prosta mesta zasedena\, vpisujemo na ČAKALNO LISTO:Status*PRIJAVA NA PROSTO MESTOPrijava NA ČAKALNO LISTO (ko prijava na prosto mesto ni več na voljo)Ime in priimek moža*\n                            \n                            \n                                                    \n                                                    First\n                                                \n                            \n                            \n                                                    \n                                                    Last\n                                                \n                            \n                        Ime in priimek žene*\n                            \n                            \n                                                    \n                                                    First\n                                                \n                            \n                            \n                                                    \n                                                    Last\n                                                \n                            \n                        Naslov*Kraj*    \n                    \n                        \n                                    \n                                    City\n                                 \n                                    \n                                    ZIP / Postal Code\n                                \n                    \n                E-pošta moža*\n                            \n                        E-pošta žene*\n                            \n                        Telefon moža*Telefon žene*OpombeThis field is hidden when viewing the formAli sta se že udeležila temeljnega seminarja Nepozabni trenutki za naju?\n								\n								Da.\n							\n								\n								Ne.\n							Ni obvezno za udeležbo na tematskem seminarju\, je pa priporočljivo.\nVarstvo otrok\nNa tem seminarju BO za razliko od drugih terminov in lokacij organizirano varstvo za otroke. V primeru\, da pridejo otroci z vama\, označite naslednje polje in nato vpišite podatke: Dojenček\n								\n								S seboj bova imela tudi dojenčka.\n							Na seminarjih NE organiziramo varstva za otroke. Izjema so dojenčki oziroma malčki\, ki ne zmorejo brez mame.Imena in starost otrok\nNaslednji dve vprašanji sta informativne narave – za voditelje seminarja: This field is hidden when viewing the formKoliko so stari vajini otroci?Zgolj informativno za voditelje seminarja.This field is hidden when viewing the formImata kakšno vprašanje\, ki bi ga rada naslovila na voditelje seminarja?Kotizacija za par\n					\n					\n						Znesek:\n						\n					\n					\n				Način plačila\nOd nas bosta prejela račun za kotizacijo. Prispevek za bivanje in prehrano (polni penzion) bosta poravnala na seminarju. Izberita\, na kakšen način želita poravnati kotizacijo:Račun za kotizacijo želiva poravnati*Račun za kotizacijo želiva poravnati *Nakazilo na TRR (račun po e-pošti)Imava darilni bon / Prenos kotizacijeProsimo\, vpišita\, kdo je plačnik darilnega bona / Oz. vpišita seminar\, s katerega prenašata kotizacijoZ vami bo stopila v stik naša sodelavka in se boste dogovorili vse podrobnosti.Splošni pogoji*\n								\n								Strinjam se z navedenimi pogoji\, s splošnimi pogoji in sem seznanjen z varstvom osebnih podatkov. *\n							CAPTCHA\n          \n            \n            \n            \n            \n            \n            \n            \n            \n            \n            \n            \n            \n            \n        \n                        Δ
URL:https://www.diz.si/dogodek/nepozabni-trenutki-za-naju-23-25-10-2026-izola/
CATEGORIES:Nepozabni trenutki za naju,Seminarji
ATTACH;FMTTYPE=image/jpeg:https://www.diz.si/wp-content/uploads/NTZN-predstavitvena-3.webp
END:VEVENT
BEGIN:VEVENT
DTSTART;TZID=Europe/Ljubljana:20261106T000000
DTEND;TZID=Europe/Ljubljana:20261108T235959
DTSTAMP:20260420T195758
CREATED:20260316T110139Z
LAST-MODIFIED:20260322T095628Z
UID:54561-1793923200-1794182399@www.diz.si
SUMMARY:Nepozabni trenutki za naju\, 6.-8. 11. 2026\, Izola
DESCRIPTION:Temeljni seminar Nepozabni trenutki za naju\n\n\n\n\nKatere so pasti življenja v dvoje in kako se jim izogniti?\n\n\n\nKako se pogovarjati in reševati spore\, ne da bi drug drugega prizadela?\n\n\n\nKaj morate vedeti o možu kot žena in kaj o ženi kot mož?\n\n\n\nKako vzpostaviti in vzdrževati intimnost med vama?\n\n\n\n\nTAKOJ Na prijavo\n\n\n\n\n\nVEČ O SEMINARJURada bi izvedela več >\n\n\n\n\n\nPOGOSTA VPRAŠANJAMorda zanima tudi vaju >\n\n\n\n\n\nDODATNE INFORMACIJEbrigita@diz.si\, 070 410 555\n\n\n\n\n\n\n\n\n\n\n\nPrijava na seminar\n\n\n\nCena seminarja: 380\,00 € \n\n\n\nCena zajema (cenik):– kotizacija: 95\,00 € (pošljemo račun\, DDV je vključen);– namestitev\, dva polna penziona\, turistična taksa in prijavnina za dve osebi: 285\,00 € \n\n\n\nInformacija o odpovedi: Brezplačna odjava s seminarja je možna vsaj 14 dni pred začetkom seminarja\, sicer se kotizacija žal ne povrne. Ob odpovedi do 4 dni pred začetkom seminarja v hotelu zaračunajo 50% stroškov. \n\n\n\n\n\nPrijavnica\n\n\n\n                \n                        \n                            Nepozabni trenutki za naju – 6.-8. 11. 2026 – Izola\n                             \n							"*" označuje obvezna polja \n                        \n                        InstagramThis field is for validation purposes and should be left unchanged.Če so vsa prosta mesta zasedena\, vpisujemo na ČAKALNO LISTO:Status*PRIJAVA NA PROSTO MESTOPrijava NA ČAKALNO LISTO (ko prijava na prosto mesto ni več na voljo)Ime in priimek moža*\n                            \n                            \n                                                    \n                                                    First\n                                                \n                            \n                            \n                                                    \n                                                    Last\n                                                \n                            \n                        Ime in priimek žene*\n                            \n                            \n                                                    \n                                                    First\n                                                \n                            \n                            \n                                                    \n                                                    Last\n                                                \n                            \n                        Naslov*Kraj*    \n                    \n                        \n                                    \n                                    City\n                                 \n                                    \n                                    ZIP / Postal Code\n                                \n                    \n                E-pošta moža*\n                            \n                        E-pošta žene*\n                            \n                        Telefon moža*Telefon žene*OpombeThis field is hidden when viewing the formAli sta se že udeležila temeljnega seminarja Nepozabni trenutki za naju?\n								\n								Da.\n							\n								\n								Ne.\n							Ni obvezno za udeležbo na tematskem seminarju\, je pa priporočljivo.\nVarstvo otrok\nNa tem seminarju BO za razliko od drugih terminov in lokacij organizirano varstvo za otroke. V primeru\, da pridejo otroci z vama\, označite naslednje polje in nato vpišite podatke: Dojenček\n								\n								S seboj bova imela tudi dojenčka.\n							Na seminarjih NE organiziramo varstva za otroke. Izjema so dojenčki oziroma malčki\, ki ne zmorejo brez mame.Imena in starost otrok\nNaslednji dve vprašanji sta informativne narave – za voditelje seminarja: This field is hidden when viewing the formKoliko so stari vajini otroci?Zgolj informativno za voditelje seminarja.This field is hidden when viewing the formImata kakšno vprašanje\, ki bi ga rada naslovila na voditelje seminarja?Kotizacija za par\n					\n					\n						Znesek:\n						\n					\n					\n				Način plačila\nOd nas bosta prejela račun za kotizacijo. Prispevek za bivanje in prehrano (polni penzion) bosta poravnala na seminarju. Izberita\, na kakšen način želita poravnati kotizacijo:Račun za kotizacijo želiva poravnati*Račun za kotizacijo želiva poravnati *Nakazilo na TRR (račun po e-pošti)Imava darilni bon / Prenos kotizacijeProsimo\, vpišita\, kdo je plačnik darilnega bona / Oz. vpišita seminar\, s katerega prenašata kotizacijoZ vami bo stopila v stik naša sodelavka in se boste dogovorili vse podrobnosti.Splošni pogoji*\n								\n								Strinjam se z navedenimi pogoji\, s splošnimi pogoji in sem seznanjen z varstvom osebnih podatkov. *\n							CAPTCHA\n          \n            \n            \n            \n            \n            \n            \n            \n            \n            \n            \n            \n            \n            \n        \n                        Δ
URL:https://www.diz.si/dogodek/nepozabni-trenutki-za-naju-6-8-11-2026-izola/
CATEGORIES:Nepozabni trenutki za naju,Seminarji
ATTACH;FMTTYPE=image/jpeg:https://www.diz.si/wp-content/uploads/NTZN-predstavitvena-3.webp
END:VEVENT
END:VCALENDAR