BEGIN:VCALENDAR
VERSION:2.0
PRODID:-//Družina in Življenje - ECPv6.15.18//NONSGML v1.0//EN
CALSCALE:GREGORIAN
METHOD:PUBLISH
X-ORIGINAL-URL:https://www.diz.si
X-WR-CALDESC:Dogodki za Družina in Življenje
REFRESH-INTERVAL;VALUE=DURATION:PT1H
X-Robots-Tag:noindex
X-PUBLISHED-TTL:PT1H
BEGIN:VTIMEZONE
TZID:Europe/Ljubljana
BEGIN:DAYLIGHT
TZOFFSETFROM:+0100
TZOFFSETTO:+0200
TZNAME:CEST
DTSTART:20250330T010000
END:DAYLIGHT
BEGIN:STANDARD
TZOFFSETFROM:+0200
TZOFFSETTO:+0100
TZNAME:CET
DTSTART:20251026T010000
END:STANDARD
BEGIN:DAYLIGHT
TZOFFSETFROM:+0100
TZOFFSETTO:+0200
TZNAME:CEST
DTSTART:20260329T010000
END:DAYLIGHT
BEGIN:STANDARD
TZOFFSETFROM:+0200
TZOFFSETTO:+0100
TZNAME:CET
DTSTART:20261025T010000
END:STANDARD
BEGIN:DAYLIGHT
TZOFFSETFROM:+0100
TZOFFSETTO:+0200
TZNAME:CEST
DTSTART:20270328T010000
END:DAYLIGHT
BEGIN:STANDARD
TZOFFSETFROM:+0200
TZOFFSETTO:+0100
TZNAME:CET
DTSTART:20271031T010000
END:STANDARD
END:VTIMEZONE
BEGIN:VEVENT
DTSTART;TZID=Europe/Ljubljana:20260523T000000
DTEND;TZID=Europe/Ljubljana:20260523T235959
DTSTAMP:20260420T183151
CREATED:20251004T225544Z
LAST-MODIFIED:20260417T104426Z
UID:52972-1779494400-1779580799@www.diz.si
SUMMARY:Moški pohod\, 23. 5. 2026\, območje Ratitovca
DESCRIPTION:(tema v pripravi)\n\n\n\n\n\n\n\nMoški pohod je enodnevna pustolovščina za može: hoja\, molitev\, Božja beseda\, skupnost. \n\n\n\nPohod je namenjen dobro fizično in psihično pripravljenim možem. Verjamemo\, da mora biti moški pripravljen vzdržati telesne in duševne pritiske današnjega časa\, obenem pa mora biti v stalnem odnosu z Bogom. Gradimo može\, ki bodo ostali v družinah ne glede na stiske\, ki so in ki pridejo. \n\n\n\nNa prijavo\n\n\n\nMoški potrebujemo pot\, dolgo in naporno\, na kateri pride do “švicanja”\, utrujenosti\, bolečin\, žeje\, nepredvidljivosti … da se začnemo obračati k Bogu\, da začnemo Boga jemati zares in začnemo živeti iz globine srca.\n\n\n\nPohod je namenjen možem\, ki se pustijo nagovoriti Božji besedi\, ki želijo Božjo besedo prenesti v vsakdanje življenje\, so na poti in tudi sicer v življenju pripravljeni moliti in so pripravljeni odnos z Bogom postavljati na prvo mesto. \n\n\n\nMoški pohod:\n\n\n\n\nKdaj: sobota\, 23. maj 2026\n\n\n\nPot: Prtovč – Danje – Lajnar – Pl. za Šavnikom – Rovtarica – Ratitovec – Prtovč (31 km/1300m )\n\n\n\nTema: Slavil bom Gospoda ob vsakem času (Ps 34)\n\n\n\nVodenje: Anže Čelik\n\n\n\nOPOZORILO: Trasa pohoda se lahko spremeni glede na razmere na terenu in druge okoliščine.\n\n\n\nVeč informacij bo sledilo nekaj dni pred odhodom.\n\n\n\n\n\nMožje na pohodu po Gorenjskem\n\n\n\nPogovor\, molitev …\n\n\n\nNe glede na letni čas ali vreme\n\n\n\n\n\n\n\n\n\nMolitev: Po poti se bo molilo rožni venec. Molili bomo tudi pri vsakem znamenju vernosti naših prednikov: križ\, znamenje\, kapelica\, cerkev\, … (za naše lepotice\, za družine\, za našo Cerkev\, za domovino). Prinesi tudi svoj molilni seznam.\n\n\n\nZa koga: Pridi samo\, če si dobro kondicijsko pripravljen. Če boš omagal\, boš poklical ženo ali koga drugega\, da te pride iskat. Če še nimaš kondicije\, začni hoditi\, da jo boš čez pol leta imel.\n\n\n\nOprema: Obvezno vzemi s seboj toplo kapo\, rokavice\, toplo obleko\, cunje za preoblačenje\, v primeru dežja/snega zaščito (pelerina ali dežnik in zaščita za nahrbtnik; gamaše)\, priporočam palice. Hrana – jedlo se bo lahko ob vsakem postanku in topla pijača. Obvezno vzemi s seboj dobro svetilko\, ker bomo del poti gotovo hodili v temi.\n\n\n\nPrijava: S SPODNJO PRIJAVNICO. 18 mož. Kdor se prej prijavi\, gre.\n\n\n\n\nSeznam časovnih terminov in poti za novo sezono. Rezerviraj si datume\, prijavi se pravočasno.\n\n\n\nPRIJAVA\n\n\n\n\n\n\n                \n                        \n                            Moški pohod\, 23. 5. 2026\n                             \n							"*" označuje obvezna polja \n                        \n                        EmailThis field is for validation purposes and should be left unchanged.Vsa prosta mesta so zasedena. Vpisujemo na ČAKALNO LISTO: Vsa mesta so zasedena\, prijave so ZAPRTE. Poskusite se prijaviti na drug termin. Status*PRIJAVA NA PROSTO MESTOPrijava NA ČAKALNO LISTO (ko prijava na prosto mesto ni več na voljo)Ime in priimek*Kraj*Email*\n                            \n                        Telefon*Želite prejemati koristne spodbude za odnose?\n								\n								Želim se naročiti na prejemanje e-novic.\n							Prosimo\, potrdite\, da se strinjate s spolnišnimi pogoji.*\n								\n								Strinjam se s splošnimi pogoji.*\n							Moški pohod je za vas sicer brezplačen dogodek\, ni pa "zastonj"\, zato prijazno povabljeni k darovanju za pripravo in organizacijo teh in podobnih dogodkov v okviru Družine in Življenja na tej povezavi. HVALA! #GradimoOdnose\n          \n            \n            \n            \n            \n            \n            \n            \n            \n            \n            \n            \n            \n            \n        \n                        Δ \n                        \n		                \n		                \n\n\n\n\n\n\n\n\n\n\n\n\n\n\nVas zanima\, kako se je začelo?\n\n\n\nSledite tej povezavi > \n\n\n\n\n\nSte za 5-dnevno pustolovščino?\n\n\n\nODMIK ZA MOŠKE V DIVJINI >
URL:https://www.diz.si/dogodek/moski-pohod-23-5-2026-gorenjska/
CATEGORIES:Drugi dogodki,Moški pohod
ATTACH;FMTTYPE=image/jpeg:https://www.diz.si/wp-content/uploads/2025/01/moski_pohod_maj_naslovna.webp
END:VEVENT
END:VCALENDAR