BEGIN:VCALENDAR
VERSION:2.0
PRODID:-//Družina in Življenje - ECPv6.15.20//NONSGML v1.0//EN
CALSCALE:GREGORIAN
METHOD:PUBLISH
X-ORIGINAL-URL:https://www.diz.si
X-WR-CALDESC:Dogodki za Družina in Življenje
REFRESH-INTERVAL;VALUE=DURATION:PT1H
X-Robots-Tag:noindex
X-PUBLISHED-TTL:PT1H
BEGIN:VTIMEZONE
TZID:Europe/Ljubljana
BEGIN:DAYLIGHT
TZOFFSETFROM:+0100
TZOFFSETTO:+0200
TZNAME:CEST
DTSTART:20230326T010000
END:DAYLIGHT
BEGIN:STANDARD
TZOFFSETFROM:+0200
TZOFFSETTO:+0100
TZNAME:CET
DTSTART:20231029T010000
END:STANDARD
BEGIN:DAYLIGHT
TZOFFSETFROM:+0100
TZOFFSETTO:+0200
TZNAME:CEST
DTSTART:20240331T010000
END:DAYLIGHT
BEGIN:STANDARD
TZOFFSETFROM:+0200
TZOFFSETTO:+0100
TZNAME:CET
DTSTART:20241027T010000
END:STANDARD
BEGIN:DAYLIGHT
TZOFFSETFROM:+0100
TZOFFSETTO:+0200
TZNAME:CEST
DTSTART:20250330T010000
END:DAYLIGHT
BEGIN:STANDARD
TZOFFSETFROM:+0200
TZOFFSETTO:+0100
TZNAME:CET
DTSTART:20251026T010000
END:STANDARD
END:VTIMEZONE
BEGIN:VEVENT
DTSTART;VALUE=DATE:20240615
DTEND;VALUE=DATE:20240616
DTSTAMP:20260422T002757
CREATED:20240312T120124Z
LAST-MODIFIED:20240604T070846Z
UID:45549-1718409600-1718495999@www.diz.si
SUMMARY:MOŠKI POHOD\, 15. 6. 2024: Korošica
DESCRIPTION:MOŠKI POHOD\n\n15. 6. 2024\n \n\n \n\n \n\n\n \n\n \n \n \n\nMoški pohod je enodnevna pustolovščina za može: hoja\, molitev\, Božja beseda\, skupnost. \nPohod je namenjen dobro fizično in psihično pripravljenim možem. Verjamemo\, da mora biti moški pripravljen vzdržati telesne in duševne pritiske današnjega časa\, obenem pa mora biti v stalnem odnosu z Bogom. Gradimo može\, ki bodo ostali v družinah ne glede na stiske\, ki so in ki pridejo.\nNa prijavo ↓ \nMoški potrebujemo pot\, dolgo in naporno\, na kateri pride do “švicanja”\, utrujenosti\, bolečin\, žeje\, nepredvidljivosti … da se začnemo obračati k Bogu\, da začnemo Boga jemati zares in začnemo živeti iz globine srca. \nPohod je namenjen možem\, ki se pustijo nagovoriti Božji besedi\, ki želijo Božjo besedo prenesti v vsakdanje življenje\, so na poti in tudi sicer v življenju pripravljeni moliti in so pripravljeni odnos z Bogom postavljati na prvo mesto. \nMoški pohod:\n\nKdaj: sobota\, 15. junij 2024\nIzhodišče: Podvolovljek (avto)\nPot: Podvolovljek – Korošica – Molička Peč – Podvolovljek (24 km\, 1440 m višine)\nVodenje: Aleš Čerin\nOPOZORILO: Trasa pohoda se lahko spremeni glede na razmere na terenu in druge okoliščine.\n\nVeč informacij bo sledilo nekaj dni pred odhodom. \n\nMolitev: Po poti se bo molilo rožni venec. Molili bomo tudi pri vsakem znamenju vernosti naših prednikov: križ\, znamenje\, kapelica\, cerkev\, … (za naše lepotice\, za družine\, za našo Cerkev\, za domovino). Prinesi tudi svoj molilni seznam.\nZa koga: Pridi samo\, če si dobro kondicijsko pripravljen. Če boš omagal\, boš poklical ženo ali koga drugega\, da te pride iskat. Če še nimaš kondicije\, začni hoditi\, da jo boš čez pol leta imel.\nOprema: Obvezno vzemi s seboj toplo kapo\, rokavice\, toplo obleko\, cunje za preoblačenje\, v primeru dežja/snega zaščito (pelerina ali dežnik in zaščita za nahrbtnik; gamaše)\, priporočam palice. Hrana – jedlo se bo lahko ob vsakem postanku in topla pijača. Obvezno vzemi s seboj dobro svetilko\, ker bomo del poti gotovo hodili v temi.\nPrijava: S SPODNJO PRIJAVNICO. 18 mož. Kdor se prej prijavi\, gre.\n\n\nSeznam časovnih terminov in poti za prvo polovico leta 2024. Rezerviraj si datume\, prijavi se pravočasno. \n\nVas zanima\, kako se je začelo?\nSledite tej povezavi > \nSte za 5-dnevno pustolovščino?\nODMIK ZA MOŠKE V DIVJINI >\n \n \n \nMožje na pohodu po Koroškem; v ozadju Uršlja gora (za pot glej zemljevid spodaj)\nZ rožnim vencem v roki\nNa Koroškem; po 30 km še spust do Slovenj Gradca\nFoto: Aleš Čerin (s pohoda po Koroškem)\n \n \n \n \nPRIJAVA
URL:https://www.diz.si/dogodek/moski-pohod-15-6-2024-korosica/
CATEGORIES:Drugi dogodki,Moški pohod
ATTACH;FMTTYPE=image/jpeg:https://www.diz.si/wp-content/uploads/MP12-2023-Svete-gore-5909-H2000-16.12.2023.webp
END:VEVENT
END:VCALENDAR