BEGIN:VCALENDAR
VERSION:2.0
PRODID:-//Družina in Življenje - ECPv6.15.18//NONSGML v1.0//EN
CALSCALE:GREGORIAN
METHOD:PUBLISH
X-WR-CALNAME:Družina in Življenje
X-ORIGINAL-URL:https://www.diz.si
X-WR-CALDESC:Dogodki za Družina in Življenje
REFRESH-INTERVAL;VALUE=DURATION:PT1H
X-Robots-Tag:noindex
X-PUBLISHED-TTL:PT1H
BEGIN:VTIMEZONE
TZID:Europe/Ljubljana
BEGIN:DAYLIGHT
TZOFFSETFROM:+0100
TZOFFSETTO:+0200
TZNAME:CEST
DTSTART:20210328T010000
END:DAYLIGHT
BEGIN:STANDARD
TZOFFSETFROM:+0200
TZOFFSETTO:+0100
TZNAME:CET
DTSTART:20211031T010000
END:STANDARD
BEGIN:DAYLIGHT
TZOFFSETFROM:+0100
TZOFFSETTO:+0200
TZNAME:CEST
DTSTART:20220327T010000
END:DAYLIGHT
BEGIN:STANDARD
TZOFFSETFROM:+0200
TZOFFSETTO:+0100
TZNAME:CET
DTSTART:20221030T010000
END:STANDARD
BEGIN:DAYLIGHT
TZOFFSETFROM:+0100
TZOFFSETTO:+0200
TZNAME:CEST
DTSTART:20230326T010000
END:DAYLIGHT
BEGIN:STANDARD
TZOFFSETFROM:+0200
TZOFFSETTO:+0100
TZNAME:CET
DTSTART:20231029T010000
END:STANDARD
BEGIN:DAYLIGHT
TZOFFSETFROM:+0100
TZOFFSETTO:+0200
TZNAME:CEST
DTSTART:20240331T010000
END:DAYLIGHT
BEGIN:STANDARD
TZOFFSETFROM:+0200
TZOFFSETTO:+0100
TZNAME:CET
DTSTART:20241027T010000
END:STANDARD
BEGIN:DAYLIGHT
TZOFFSETFROM:+0100
TZOFFSETTO:+0200
TZNAME:CEST
DTSTART:20250330T010000
END:DAYLIGHT
BEGIN:STANDARD
TZOFFSETFROM:+0200
TZOFFSETTO:+0100
TZNAME:CET
DTSTART:20251026T010000
END:STANDARD
BEGIN:DAYLIGHT
TZOFFSETFROM:+0100
TZOFFSETTO:+0200
TZNAME:CEST
DTSTART:20260329T010000
END:DAYLIGHT
BEGIN:STANDARD
TZOFFSETFROM:+0200
TZOFFSETTO:+0100
TZNAME:CET
DTSTART:20261025T010000
END:STANDARD
END:VTIMEZONE
BEGIN:VEVENT
DTSTART;TZID=Europe/Ljubljana:20251017T200000
DTEND;TZID=Europe/Ljubljana:20251017T200000
DTSTAMP:20260421T024944
CREATED:20250912T155239Z
LAST-MODIFIED:20251013T190227Z
UID:52483-1760731200-1760731200@www.diz.si
SUMMARY:Kulinarično-plesni zakon večer\, 17. 10. 2025
DESCRIPTION:Vabimo vaju na DiŽ-ev kulinarično-plesni Zakon večer ob živi glasbi!\n\n\n\nIzkoristita priložnost za druženje\, zabavo in povezovanje ob odlični hrani in glasbi. Povabita še kakšen par na novo in pohitita s prijavo! \n\n\n\nNa prijavo\n\n\n\nVabilo velja za vse pare\, ne glede na to\, ali ste člani zakonskih skupin ali ne. \n\n\n\nVečer bo potekal v restavraciji hotela Dolenj’c pri Novem Mestu\, v petek\, 17. oktobra\, od 20. do 24. ure\, začetek zbiranja pol ure prej. \n\n\n\nČe kdo želi\, se v omenjenem hotelu lahko tudi dogovori za prenočevanje (omenite DiŽ\, ker boste upravičeni do 10% popusta). \n\n\n\n\nOglejta si meni:\n\n\n\nMESNI IN RIBJI MENI (PDF)\n\n\n\n\n\n\n\nV prijavi navedita svoje osebne kontaktne podatke in izberita meni (pod opombe navedita morebitne omejitve – vegi\, veganski\, brezglutenski meni). \n\n\n\nPlačilo bo na kraju dogodka\, večerja z živo plesno glasbo bo 56 € na par\, pijača ni všteta v ceni. \n\n\n\n\n\n\n\n\nPrijave zbiramo do zapolnitve kapacitet. Ne odlašajta! \n\n\n\nŠe nista dobila vseh informacij? Pišita nam > \n\n\n\nPRIJAVA\n\n\n\n\n\n\n \n\n\n\nNekaj utrinkov s preteklih kulinarično-plesnih zakon večerov:\n\n\n\n\n\n\n\n\n\n\n\n\n\n\n\n\n\n\n\n\n\n\n\n\n\n\n\n\n\n\n\n\n\n\n\n\n\n\n\n\n\n\n\n\n\n\n\n\n\n\n\n\n\nFoto: Matjaž Maležič
URL:https://www.diz.si/dogodek/kulinaricno-plesni-zakon-vecer-17-10-2025/
CATEGORIES:Drugi dogodki,Zakon večeri
ATTACH;FMTTYPE=image/jpeg:https://www.diz.si/wp-content/uploads/2025/09/ples-okt25-naslovna.webp
END:VEVENT
BEGIN:VEVENT
DTSTART;TZID=Europe/Ljubljana:20250221T200000
DTEND;TZID=Europe/Ljubljana:20250221T200000
DTSTAMP:20260421T024944
CREATED:20250107T100938Z
LAST-MODIFIED:20250107T101853Z
UID:49366-1740168000-1740168000@www.diz.si
SUMMARY:Kulinarično-plesni zakon večer\, 21. 2. 2025
DESCRIPTION:Vabimo vaju na DiŽ-ev kulinarično-plesni Zakon večer ob živi glasbi!\n\n\n\nIzkoristita priložnost za druženje\, zabavo in povezovanje ob odlični hrani in glasbi. Povabita še kakšen par na novo in pohitita s prijavo! \n\n\n\nNa prijavo\n\n\n\nVabilo velja za vse pare\, ne glede na to\, ali ste člani zakonskih skupin ali ne. \n\n\n\nVečer bo potekal v restavraciji hotela Dolenj’c pri Novem Mestu\, v petek\, 21. februarja\, od 20. do 24. ure\, začetek zbiranja pol ure prej. \n\n\n\nČe kdo želi\, se v omenjenem hotelu lahko tudi dogovori za prenočevanje (omenite DiŽ\, ker boste upravičeni do 10% popusta). \n\n\n\n\nOglejta si meni:\n\n\n\nMESNI IN RIBJI MENI (PDF)\n\n\n\n\n\n\n\nV prijavi navedita svoje osebne kontaktne podatke in izberita meni (pod opombe navedita morebitne omejitve – vegi\, veganski\, brezglutenski meni). \n\n\n\nPlačilo bo na kraju dogodka\, večerja z živo plesno glasbo bo 56 € na par\, pijača ni všteta v ceni. \n\n\n\n\n\n\n\n\nPrijave zbiramo do 14. februarja oz. do zapolnitve kapacitet. Ne odlašajta! \n\n\n\nŠe nista dobila vseh informacij? Pišita nam > \n\n\n\nPRIJAVA\n\n\n\n\n\n\n \n\n\n\nNekaj utrinkov z enega od preteklih kulinarično-plesnih zakon večerov:\n\n\n\n\n\n\n\n\n\n\n\n\n\n\n\n\n\n\n\n\n\n\n\n\n\n\n\n\n\n\n\n\n\n\n\n\n\nFoto: Matjaž Maležič
URL:https://www.diz.si/dogodek/kulinaricno-plesni-zakon-vecer-21-2-2025/
CATEGORIES:Drugi dogodki,Zakon večeri
ATTACH;FMTTYPE=image/jpeg:https://www.diz.si/wp-content/uploads/2025/01/ples-naslovna.webp
END:VEVENT
BEGIN:VEVENT
DTSTART;TZID=Europe/Ljubljana:20240531T200000
DTEND;TZID=Europe/Ljubljana:20240531T200000
DTSTAMP:20260421T024944
CREATED:20240430T184855Z
LAST-MODIFIED:20240430T184855Z
UID:45843-1717185600-1717185600@www.diz.si
SUMMARY:Kulinarično-plesni zakon večer\, 31. 5. 2024
DESCRIPTION:DiŽ-ev kulinarično-plesni\nZAKON VEČER\nob živi glasbi\nVabimo vaju na DiŽ-ev kulinarično-plesni Zakon večer ob živi glasbi! \nIzkoristita priložnost za druženje\, zabavo in povezovanje ob odlični hrani in glasbi. Povabita še kakšen par na novo in pohitita s prijavo! \nVabilo velja za vse pare\, ne glede na to ali ste člani zakonskih skupin ali ne. \nVečer bo potekal v restavraciji hotela Dolenj’c pri Novem Mestu\, v petek\, 31. maja\, od 20. do 24. ure\, začetek zbiranja pol ure prej. \nČe kdo želi\, se v omenjenem hotelu lahko tudi dogovori za prenočevanje (omenite DiŽ\, ker boste upravičeni do 10% popusta). \nOglejta si mesni in ribji meni (PDF) \nV prijavi navedite svoje osebne kontaktne podatke in izberite meni (pod opombe navedite morebitne omejitve – vegi\, veganski\, brezglutenski meni). \nPlačilo bo na kraju dogodka\, večerja z živo plesno glasbo bo 54 € na par\, pijača ni všteta v ceni. \nPrijave zbiramo do 25. maja oz. do zapolnitve kapacitet. Ne odlašajta! \nŠe niste dobili vseh informacij? Pišite nam > \nPRIJAVA\n \nNekaj utrinkov z enega od preteklih kulinarično-plesnih zakon večerov:
URL:https://www.diz.si/dogodek/kulinaricno-plesni-zakon-vecer-31-5-2024/
LOCATION:Hotel Dolenj’c\, Na Brezovici 50\, Novo mesto\, 8000\, Slovenija
CATEGORIES:Drugi dogodki,Zakon večeri
ATTACH;FMTTYPE=image/png:https://www.diz.si/wp-content/uploads/Front-page-oglas-dec21-14-png.webp
END:VEVENT
BEGIN:VEVENT
DTSTART;TZID=Europe/Ljubljana:20231110T200000
DTEND;TZID=Europe/Ljubljana:20231110T200000
DTSTAMP:20260421T024944
CREATED:20230927T190516Z
LAST-MODIFIED:20231103T224206Z
UID:43875-1699646400-1699646400@www.diz.si
SUMMARY:Kulinarično-plesni zakon večer\, 10. 11. 2023
DESCRIPTION:DiŽ-ev kulinarično-plesni\nZAKON VEČER\nob živi glasbi\nVabimo vaju na DiŽ-ev kulinarično-plesni Zakon večer ob živi glasbi! \nIzkoristita priložnost za druženje\, zabavo in povezovanje ob odlični hrani in glasbi. Povabita še kakšen par na novo in pohitita s prijavo! \nVabilo velja za vse pare\, ne glede na to ali ste člani zakonskih skupin ali ne. \nVečer bo potekal v restavraciji hotela Dolenj’c pri Novem Mestu\, v petek\, 10. novembra\, od 20. do 24. ure\, začetek zbiranja pol ure prej. \nČe kdo želi\, se v omenjenem hotelu lahko tudi dogovori za prenočevanje (omenite DiŽ\, ker boste upravičeni do 10% popusta). \nOglejta si mesni in ribji meni (PDF) \nV prijavi navedite svoje osebne kontaktne podatke in izberite meni (pod opombe navedite morebitne omejitve – vegi\, veganski\, brezglutenski meni). \nPlačilo bo na kraju dogodka\, večerja z živo plesno glasbo bo 56 € na par\, pijača ni všteta v ceni. \nPrijave zbiramo do 8. novembra oz. do zapolnitve kapacitet. Ne odlašajta! \nŠe niste dobili vseh informacij? Pišite nam > \nPRIJAVA\n \nNekaj utrinkov z enega od preteklih kulinarično-plesnih zakon večerov:
URL:https://www.diz.si/dogodek/kulinaricno-plesni-zakon-vecer-10-11-2023/
LOCATION:Hotel Dolenj’c\, Na Brezovici 50\, Novo mesto\, 8000\, Slovenija
CATEGORIES:Drugi dogodki,Zakon večeri
ATTACH;FMTTYPE=image/png:https://www.diz.si/wp-content/uploads/Front-page-oglas-dec21-14-png.webp
END:VEVENT
BEGIN:VEVENT
DTSTART;TZID=Europe/Ljubljana:20230217T200000
DTEND;TZID=Europe/Ljubljana:20230217T200000
DTSTAMP:20260421T024944
CREATED:20230117T205151Z
LAST-MODIFIED:20230216T100156Z
UID:39899-1676664000-1676664000@www.diz.si
SUMMARY:Kulinarično-plesni zakon večer\, 17. 2. 2023
DESCRIPTION:DiŽ-ev kulinarično-plesni\nZAKON VEČER\nVabimo vaju na DiŽ-ev kulinarično-plesni Zakon večer! \nIzkoristita priložnost za druženje\, zabavo in povezovanje ob odlični hrani in glasbi. Povabita še kakšen par na novo in pohitita s prijavo! \nVabilo velja za vse pare\, ne glede na to ali ste člani zakonskih skupin ali ne. \nVečer bo potekal v restavraciji hotela Dolenj’c pri Novem Mestu\, v petek\, 17. februarja\, od 20. do 24. ure\, začetek zbiranja pol ure prej. \nČe kdo želi\, se v omenjenem hotelu lahko tudi dogovori za prenočevanje (omenite DiŽ\, ker boste upravičeni do 10% popusta). \nOglejta si mesni in ribji meni (PDF) \nV prijavi navedite svoje osebne kontaktne podatke in izberite meni (pod opombe navedite morebitne omejitve – vegi\, veganski\, brezglutenski meni). \nPlačilo bo na kraju dogodka\, večerja z živo plesno glasbo bo 54€ na par\, pijača ni všteta v ceni. \nPrijave zbiramo do 10. februarja oz. do zapolnitve kapacitet. Ne odlašajta!\n(PRIJAVE SO IZJEMOMA PODALJŠANE OZ. PONOVNO ODPRTE ZARADI NEKAJ ODJAV. Samo dokler spodnja prijavnica to omogoča!) \nŠe niste dobili vseh informacij? Pišite nam > \nPRIJAVA\n \nNekaj utrinkov z oktobrskega kulinarično-plesnega zakon večera:
URL:https://www.diz.si/dogodek/kulinaricno-plesni-zakon-vecer-17-2-2023/
LOCATION:Hotel Dolenj’c\, Na Brezovici 50\, Novo mesto\, 8000\, Slovenija
CATEGORIES:Drugi dogodki,Zakon večeri
ATTACH;FMTTYPE=image/png:https://www.diz.si/wp-content/uploads/Front-page-oglas-dec21-14-png.webp
END:VEVENT
BEGIN:VEVENT
DTSTART;TZID=Europe/Ljubljana:20221014T200000
DTEND;TZID=Europe/Ljubljana:20221014T200000
DTSTAMP:20260421T024944
CREATED:20220912T123049Z
LAST-MODIFIED:20221003T063648Z
UID:34211-1665777600-1665777600@www.diz.si
SUMMARY:Kulinarično-plesni zakon večer\, 14. 10. 2022
DESCRIPTION:DiŽ-ev kulinarično-plesni\nZAKON VEČER\nVabimo vaju na DiŽ-ev kulinarično-plesni Zakon večer! \nIzkoristita priložnost za druženje\, zabavo in povezovanje ob odlični hrani in glasbi. Povabita še kakšen par na novo in pohitita s prijavo! \nVabilo velja za vse pare\, ne glede na to ali ste člani zakonskih skupin ali ne. \nVečer bo potekal v restavraciji hotela Dolenj’c pri Novem Mestu\, v petek\, 14. oktobra\, od 20. do 24. ure\, začetek zbiranja pol ure prej. \nČe kdo želi\, se v omenjenem hotelu lahko tudi dogovori za prenočevanje (omenite DiŽ\, ker boste upravičeni do 10% popusta). \nOglejta si mesni in ribji meni (PDF) \nV prijavi navedite svoje osebne kontaktne podatke in izberite meni (pod opombe navedite morebitne omejitve – vegi\, veganski\, brezglutenski meni). \nPlačilo bo na kraju dogodka\, večerja z živo plesno glasbo bo 52€ na par\, pijača ni všteta v ceni. \nPrijave zbiramo do 7. 10. 2022 oz. do zapolnitve kapacitet. Ne odlašajta! \nŠe niste dobili vseh informacij? Pišite nam > \nPRIJAVA
URL:https://www.diz.si/dogodek/kulinaricno-plesni-zakon-vecer-14-10-2022/
LOCATION:Hotel Dolenj’c\, Na Brezovici 50\, Novo mesto\, 8000\, Slovenija
CATEGORIES:Drugi dogodki,Zakon večeri
ATTACH;FMTTYPE=image/png:https://www.diz.si/wp-content/uploads/Front-page-oglas-dec21-14-png.webp
END:VEVENT
END:VCALENDAR