BEGIN:VCALENDAR
VERSION:2.0
PRODID:-//Družina in Življenje - ECPv6.15.18//NONSGML v1.0//EN
CALSCALE:GREGORIAN
METHOD:PUBLISH
X-WR-CALNAME:Družina in Življenje
X-ORIGINAL-URL:https://www.diz.si
X-WR-CALDESC:Dogodki za Družina in Življenje
REFRESH-INTERVAL;VALUE=DURATION:PT1H
X-Robots-Tag:noindex
X-PUBLISHED-TTL:PT1H
BEGIN:VTIMEZONE
TZID:Europe/Ljubljana
BEGIN:DAYLIGHT
TZOFFSETFROM:+0100
TZOFFSETTO:+0200
TZNAME:CEST
DTSTART:20250330T010000
END:DAYLIGHT
BEGIN:STANDARD
TZOFFSETFROM:+0200
TZOFFSETTO:+0100
TZNAME:CET
DTSTART:20251026T010000
END:STANDARD
BEGIN:DAYLIGHT
TZOFFSETFROM:+0100
TZOFFSETTO:+0200
TZNAME:CEST
DTSTART:20260329T010000
END:DAYLIGHT
BEGIN:STANDARD
TZOFFSETFROM:+0200
TZOFFSETTO:+0100
TZNAME:CET
DTSTART:20261025T010000
END:STANDARD
BEGIN:DAYLIGHT
TZOFFSETFROM:+0100
TZOFFSETTO:+0200
TZNAME:CEST
DTSTART:20270328T010000
END:DAYLIGHT
BEGIN:STANDARD
TZOFFSETFROM:+0200
TZOFFSETTO:+0100
TZNAME:CET
DTSTART:20271031T010000
END:STANDARD
END:VTIMEZONE
BEGIN:VEVENT
DTSTART;TZID=Europe/Ljubljana:20260313T000000
DTEND;TZID=Europe/Ljubljana:20260315T235959
DTSTAMP:20260421T072412
CREATED:20251106T134224Z
LAST-MODIFIED:20260107T055105Z
UID:53253-1773360000-1773619199@www.diz.si
SUMMARY:Najin zakon v zrelih letih\, 13.-15. 3. 2026\, Izola
DESCRIPTION:Tematski seminar Najin zakon v zrelih letih\n\n\n\nZlata leta ali nočna mora?\n\n\n\n\n\n\n\nKomu je seminar namenjen?\n\n\n\nSeminar je namenjen zakoncem\, ki so poročeni dlje časa; katerih otroci počasi odhajajo od doma; ki so na prehodu iz službe v upokojitev. Dobrodošli pa tudi zakonci\, ki še niste v tem obdobju\, bi se pa radi pripravili na čas\, ko bodo otroci odšli in boste imeli spet več časa drug za drugega. \n\n\n\nNa seminarju bomo razmišljali o:\n\n\n\n\nSva že prestara za gradnjo odnosa\, se še lahko spreminjava?\n\n\n\nKako se soočava z odhajanjem otrok\, kako sprejemava njihove odločitve?\n\n\n\nSkrb za ostarele starše – kako pravilno razumeti 4. Božjo zapoved?\n\n\n\nKakšno dediščino bova pustila za seboj (materialno\, duhovno)?\n\n\n\nAli sva rada skupaj? Kako skrbiva za svoje telo\, dušo in duha? \n\n\n\nSpolnost v zrelih letih.\n\n\n\n\nVoditelji in pričevalci:\n\n\n\n\n\n\n\n\n\n\n\nMarinka in Aleš Čerin\n\n\n\nsta poročena 42 let. Imata 4 odrasle otroke in 7 vnukov. Oba sta upokojena\, vendar še vedno aktivna na različnih področjih\, med drugim tudi kot govornika na seminarjih Družine in Življenja. \n\n\n\n\n\n\n\n\n\n\n\n\n\nSlavko in Saša Štern\n\n\n\nsta poročena 35 let\, starša trem že poročenim hčeram in sinu študentu. Imata 6 vnukov. Oba sta še zaposlena. Že vrsto let pričujeta na seminarju Nepozabni trenutki za naju. O tem\, da sta rada skupaj\, pa bosta po novem pričevala tudi na seminarju Najin zakon v zrelih letih. \n\n\n\n\n\n\n\n\n\nPriporočamo\, da se najprej udeležita temeljnega seminarja Nepozabni trenutki za naju\, ni pa obvezno za udeležbo na tematskem seminarju. \n\n\n\n\n\n\n\n\n\nVEČ O SEMINARJURada bi izvedela več >\n\n\n\n\n\nPOGOSTA VPRAŠANJAMorda zanima tudi vaju >\n\n\n\n\n\nDODATNE INFORMACIJEbrigita@diz.si\, 070 410 555\n\n\n\n\n\n\n\n\n\nPrijava na seminar\n\n\n\nCena seminarja: 360\,00 € \n\n\n\nCena vključuje (cenik): \n\n\n\n\nkotizacijo: 85\,00 €\n\n\n\nnamestitev\, dva polna penziona za dve osebi\, turistična taksa in prijavnina: 275\,00 €\n\n\n\n\nInformacija o odpovedi: Brezplačna odjava s seminarja je možna vsaj 14 dni pred začetkom seminarja\, sicer se kotizacija žal ne povrne. Ob odpovedi do 4 dni pred pričetkom seminarja v hotelu zaračunajo 50% stroškov (izjema je odpoved zaradi obolelosti s covid 19\, bolezni ali smrti v družini) \n\n\n\nPRIJAVNICA\n\n\n\nPrijave so zaprte. Vabljeni na druge seminarje >
URL:https://www.diz.si/dogodek/najin-zakon-v-zrelih-letih-13-15-3-2026-izola/
CATEGORIES:Najin zakon v zrelih letih,Seminarji,Tematski seminarji
ATTACH;FMTTYPE=image/jpeg:https://www.diz.si/wp-content/uploads/2024/10/Najin-zakon-v-zrelih-letih-naslovna-jpg.webp
END:VEVENT
BEGIN:VEVENT
DTSTART;TZID=Europe/Ljubljana:20261016T000000
DTEND;TZID=Europe/Ljubljana:20261018T235959
DTSTAMP:20260421T072412
CREATED:20260316T071658Z
LAST-MODIFIED:20260322T083257Z
UID:54547-1792108800-1792367999@www.diz.si
SUMMARY:Najin odnos do denarja\, 16.-18. 10. 2026\, Izola
DESCRIPTION:Tematski seminar Najin odnos do denarja\n\n\n\n\n\n\n\nZakaj?\n\n\n\nDenar nam zakoncem velikokrat dela preglavice\, če ga imamo premalo in celo\, če ga imamo preveč. Denar je vir mnogih prepirov med zakoncema in je eden od najpogostejših razlogov za ločitev. Pravzaprav niti ni vzrok denar\, pač pa različnost odnosa do njega. \n\n\n\nNa seminarju se lotimo tem\, kot so:\n\n\n\n\nmiti o denarju\, ki sva jih prinesla iz svojih družin\, pa jih do sedaj še nisva obravnavala\,\n\n\n\nkaj od denarju pravi svet in kaj Bog\,\n\n\n\nkako naj se oddaljiva od pretiranega potrošništva in kje je najina skupna točka dovolj\,\n\n\n\nzakaj in kako delati družinski proračun – spremljanje in načrtovanje (Bog\, slabi časi\, poraba za življenje)\,\n\n\n\nkaj o zadolževanju pravi Bog in kako se lotiti odplačevanja dolgov\,\n\n\n\nvzgoja otrok za služenje in porabo denarja\,\n\n\n\nkako se pravi čas lotiti dediščine\, da ostanemo v dobrih odnosih (midva z otroki\, otroci med seboj)\,\n\n\n\nkako naj postaneva vesela darovalca.\n\n\n\n\nVoditelja in pričevalca:\n\n\n\n\n\n\n\n\n\n\n\nMarinka in Aleš Čerin\n\n\n\nsta poročena 42 let. Imata 4 odrasle otroke in 7 vnukov. Oba sta upokojena\, vendar še vedno aktivna na različnih področjih\, med drugim tudi kot govornika na seminarjih Družine in Življenja. \n\n\n\n\n\n\n\n\n\nPriporočamo\, da se najprej udeležita temeljnega seminarja Nepozabni trenutki za naju\, ni pa obvezno za udeležbo na tematskem seminarju. \n\n\n\n\n\n\n\n\n\nVEČ O SEMINARJURada bi izvedela več >\n\n\n\n\n\nPOGOSTA VPRAŠANJAMorda zanima tudi vaju >\n\n\n\n\n\nDODATNE INFORMACIJEbrigita@diz.si\, 070 410 555\n\n\n\n\n\n\n\n\n\nPrijava na seminar\n\n\n\nCena seminarja: 370\,00 € \n\n\n\nCena vključuje (cenik): \n\n\n\n\nkotizacijo: 85\,00 € (pošljemo račun\, DDV je vključen)\n\n\n\nnamestitev\, dva polna penziona za dve osebi\, turistična taksa\, prijavnina: 285\,00 €\n\n\n\n\nInformacija o odpovedi: Brezplačna odjava s seminarja je možna vsaj 14 dni pred začetkom seminarja\, sicer se kotizacija žal ne povrne. Ob odpovedi do 4 dni pred pričetkom seminarja v hotelu zaračunajo 50% stroškov. \n\n\n\nPRIJAVNICA\n\n\n\n\n                \n                        \n                            Najin odnos do denarja – 16.-18. 10. 2026 – Izola\n                             \n							"*" označuje obvezna polja \n                        \n                        CompanyThis field is for validation purposes and should be left unchanged.Če so vsa prosta mesta zasedena\, vpisujemo na ČAKALNO LISTO:Status*PRIJAVA NA PROSTO MESTOPrijava NA ČAKALNO LISTO (ko prijava na prosto mesto ni več na voljo)Ime in priimek moža*\n                            \n                            \n                                                    \n                                                    First\n                                                \n                            \n                            \n                                                    \n                                                    Last\n                                                \n                            \n                        Ime in priimek žene*\n                            \n                            \n                                                    \n                                                    First\n                                                \n                            \n                            \n                                                    \n                                                    Last\n                                                \n                            \n                        Naslov*Kraj*    \n                    \n                        \n                                    \n                                    City\n                                 \n                                    \n                                    ZIP / Postal Code\n                                \n                    \n                E-pošta moža*\n                            \n                        E-pošta žene*\n                            \n                        Telefon moža*Telefon žene*OpombeAli sta se že udeležila temeljnega seminarja Nepozabni trenutki za naju?*\n								\n								Da.\n							\n								\n								Ne.\n							Ni obvezno za udeležbo na tematskem seminarju\, je pa priporočljivo.\nVarstvo otrok\nNa tem seminarju BO za razliko od drugih terminov in lokacij organizirano varstvo za otroke. V primeru\, da pridejo otroci z vama\, označite naslednje polje in nato vpišite podatke: Dojenček\n								\n								S seboj bova imela tudi dojenčka.\n							Na seminarjih NE organiziramo varstva za otroke. Izjema so dojenčki oziroma malčki\, ki ne zmorejo brez mame.Imena in starost otrok\nNaslednji dve vprašanji sta informativne narave – za voditelje seminarja: This field is hidden when viewing the formKoliko so stari vajini otroci?Zgolj informativno za voditelje seminarja.This field is hidden when viewing the formImata kakšno vprašanje\, ki bi ga rada naslovila na voditelje seminarja?Kotizacija za par\n					\n					\n						Znesek:\n						\n					\n					\n				Način plačila\nOd nas bosta prejela račun za kotizacijo. Prispevek za bivanje in prehrano (polni penzion) bosta poravnala na seminarju. Izberita\, na kakšen način želita poravnati kotizacijo:Račun za kotizacijo želiva poravnati*Račun za kotizacijo želiva poravnati *Nakazilo na TRR (račun po e-pošti)Imava darilni bon / Prenos kotizacijeProsimo\, vpišita\, kdo je plačnik darilnega bona / Oz. vpišita seminar\, s katerega prenašata kotizacijoZ vami bo stopila v stik naša sodelavka in se boste dogovorili vse podrobnosti.Splošni pogoji*\n								\n								Strinjam se z navedenimi pogoji\, s splošnimi pogoji in sem seznanjen z varstvom osebnih podatkov. *\n							CAPTCHA\n          \n            \n            \n            \n            \n            \n            \n            \n            \n            \n            \n            \n            \n            \n        \n                        Δ
URL:https://www.diz.si/dogodek/najin-odnos-do-denarja-16-18-10-2026-izola/
CATEGORIES:Najin odnos do denarja,Seminarji,Tematski seminarji
ATTACH;FMTTYPE=image/jpeg:https://www.diz.si/wp-content/uploads/2025/04/Najin_odnos_do_denarja_naslovna.webp
END:VEVENT
BEGIN:VEVENT
DTSTART;TZID=Europe/Ljubljana:20261127T000000
DTEND;TZID=Europe/Ljubljana:20261129T235959
DTSTAMP:20260421T072412
CREATED:20260316T115102Z
LAST-MODIFIED:20260322T101043Z
UID:54566-1795737600-1795996799@www.diz.si
SUMMARY:Najin zakon v zrelih letih\, 27.-29. 11. 2026\, Snovik
DESCRIPTION:Tematski seminar Najin zakon v zrelih letih\n\n\n\nZlata leta ali nočna mora?\n\n\n\n\n\n\n\nKomu je seminar namenjen?\n\n\n\nSeminar je namenjen zakoncem\, ki so poročeni dlje časa; katerih otroci počasi odhajajo od doma; ki so na prehodu iz službe v upokojitev. Dobrodošli pa tudi zakonci\, ki še niste v tem obdobju\, bi se pa radi pripravili na čas\, ko bodo otroci odšli in boste imeli spet več časa drug za drugega. \n\n\n\nNa seminarju bomo razmišljali o:\n\n\n\n\nSva že prestara za gradnjo odnosa\, se še lahko spreminjava?\n\n\n\nKako se soočava z odhajanjem otrok\, kako sprejemava njihove odločitve?\n\n\n\nSkrb za ostarele starše – kako pravilno razumeti 4. Božjo zapoved?\n\n\n\nKakšno dediščino bova pustila za seboj (materialno\, duhovno)?\n\n\n\nAli sva rada skupaj? Kako skrbiva za svoje telo\, dušo in duha? \n\n\n\nSpolnost v zrelih letih.\n\n\n\n\nVoditelji in pričevalci:\n\n\n\n\n\n\n\n\n\n\n\nMarinka in Aleš Čerin\n\n\n\nsta poročena 42 let. Imata 4 odrasle otroke in 7 vnukov. Oba sta upokojena\, vendar še vedno aktivna na različnih področjih\, med drugim tudi kot govornika na seminarjih Družine in Življenja. \n\n\n\n\n\n\n\n\n\n\n\n\n\nSlavko in Saša Štern\n\n\n\nsta poročena 35 let\, starša trem že poročenim hčeram in sinu študentu. Imata 6 vnukov. Oba sta še zaposlena. Že vrsto let pričujeta na seminarju Nepozabni trenutki za naju. O tem\, da sta rada skupaj\, pa bosta po novem pričevala tudi na seminarju Najin zakon v zrelih letih. \n\n\n\n\n\n\n\n\n\nPriporočamo\, da se najprej udeležita temeljnega seminarja Nepozabni trenutki za naju\, ni pa obvezno za udeležbo na tematskem seminarju. \n\n\n\n\n\n\n\n\n\nVEČ O SEMINARJURada bi izvedela več >\n\n\n\n\n\nPOGOSTA VPRAŠANJAMorda zanima tudi vaju >\n\n\n\n\n\nDODATNE INFORMACIJEbrigita@diz.si\, 070 410 555\n\n\n\n\n\n\n\n\n\nPrijava na seminar\n\n\n\nCena seminarja: 364\,00 € \n\n\n\nCena vključuje (cenik): \n\n\n\n\nkotizacijo: 85\,00 € (pošljemo račun\, DDV je vključen)\n\n\n\nnamestitev\, dva polna penziona za dve osebi\, turistična taksa in prijavnina: 279\,00 €\n\n\n\n\nInformacija o odpovedi: Brezplačna odjava s seminarja je možna vsaj 14 dni pred začetkom seminarja\, sicer se kotizacija žal ne povrne. \n\n\n\nPRIJAVNICA\n\n\n\n                \n                        \n                            Najin zakon v zrelih letih – 27.-29. 11. 2026 – Snovik\n                             \n							"*" označuje obvezna polja \n                        \n                        PhoneThis field is for validation purposes and should be left unchanged.Če so vsa prosta mesta zasedena\, vpisujemo na ČAKALNO LISTO:Status*PRIJAVA NA PROSTO MESTOPrijava NA ČAKALNO LISTO (ko prijava na prosto mesto ni več na voljo)Ime in priimek moža*\n                            \n                            \n                                                    \n                                                    First\n                                                \n                            \n                            \n                                                    \n                                                    Last\n                                                \n                            \n                        Ime in priimek žene*\n                            \n                            \n                                                    \n                                                    First\n                                                \n                            \n                            \n                                                    \n                                                    Last\n                                                \n                            \n                        Naslov*Kraj*    \n                    \n                        \n                                    \n                                    City\n                                 \n                                    \n                                    ZIP / Postal Code\n                                \n                    \n                E-pošta moža*\n                            \n                        E-pošta žene*\n                            \n                        Telefon moža*Telefon žene*OpombeAli sta se že udeležila temeljnega seminarja Nepozabni trenutki za naju?*\n								\n								Da.\n							\n								\n								Ne.\n							Ni obvezno za udeležbo na tematskem seminarju\, je pa priporočljivo.\nVarstvo otrok\nNa tem seminarju BO za razliko od drugih terminov in lokacij organizirano varstvo za otroke. V primeru\, da pridejo otroci z vama\, označite naslednje polje in nato vpišite podatke: This field is hidden when viewing the formDojenček\n								\n								S seboj bova imela tudi dojenčka.\n							Na seminarjih NE organiziramo varstva za otroke. Izjema so dojenčki oziroma malčki\, ki ne zmorejo brez mame.This field is hidden when viewing the formImena in starost otrok\nNaslednji dve vprašanji sta informativne narave – za voditelje seminarja:Stara sva:*\n			\n					\n					do 40 let\n			\n			\n					\n					med 40 in 50 let\n			\n			\n					\n					med 50 in 60 let\n			\n			\n					\n					med 60 in 70 let\n			\n			\n					\n					več kot 70 let\n			Imata kakšno vprašanje\, ki bi ga rada naslovila na voditelje seminarja?Kotizacija za par\n					\n					\n						Znesek:\n						\n					\n					\n				Način plačila\nOd nas bosta prejela račun za kotizacijo. Prispevek za bivanje in prehrano (polni penzion) bosta poravnala na seminarju. Izberita\, na kakšen način želita poravnati kotizacijo:Račun za kotizacijo želiva poravnati*Račun za kotizacijo želiva poravnati *Nakazilo na TRR (račun po e-pošti)Imava darilni bon / Prenos kotizacijeProsimo\, vpišita\, kdo je plačnik darilnega bona / Oz. vpišita seminar\, s katerega prenašata kotizacijoZ vami bo stopila v stik naša sodelavka in se boste dogovorili vse podrobnosti.Splošni pogoji*\n								\n								Strinjam se z navedenimi pogoji\, s splošnimi pogoji in sem seznanjen z varstvom osebnih podatkov. *\n							CAPTCHA\n          \n            \n            \n            \n            \n            \n            \n            \n            \n            \n            \n            \n            \n            \n        \n                        Δ
URL:https://www.diz.si/dogodek/najin-zakon-v-zrelih-letih-27-29-11-2026-snovik/
CATEGORIES:Najin zakon v zrelih letih,Seminarji,Tematski seminarji
ATTACH;FMTTYPE=image/jpeg:https://www.diz.si/wp-content/uploads/2024/10/Najin-zakon-v-zrelih-letih-naslovna-jpg.webp
END:VEVENT
END:VCALENDAR