BEGIN:VCALENDAR
VERSION:2.0
PRODID:-//Družina in Življenje - ECPv6.15.18//NONSGML v1.0//EN
CALSCALE:GREGORIAN
METHOD:PUBLISH
X-ORIGINAL-URL:https://www.diz.si
X-WR-CALDESC:Dogodki za Družina in Življenje
REFRESH-INTERVAL;VALUE=DURATION:PT1H
X-Robots-Tag:noindex
X-PUBLISHED-TTL:PT1H
BEGIN:VTIMEZONE
TZID:Europe/Ljubljana
BEGIN:DAYLIGHT
TZOFFSETFROM:+0100
TZOFFSETTO:+0200
TZNAME:CEST
DTSTART:20200329T010000
END:DAYLIGHT
BEGIN:STANDARD
TZOFFSETFROM:+0200
TZOFFSETTO:+0100
TZNAME:CET
DTSTART:20201025T010000
END:STANDARD
BEGIN:DAYLIGHT
TZOFFSETFROM:+0100
TZOFFSETTO:+0200
TZNAME:CEST
DTSTART:20210328T010000
END:DAYLIGHT
BEGIN:STANDARD
TZOFFSETFROM:+0200
TZOFFSETTO:+0100
TZNAME:CET
DTSTART:20211031T010000
END:STANDARD
BEGIN:DAYLIGHT
TZOFFSETFROM:+0100
TZOFFSETTO:+0200
TZNAME:CEST
DTSTART:20220327T010000
END:DAYLIGHT
BEGIN:STANDARD
TZOFFSETFROM:+0200
TZOFFSETTO:+0100
TZNAME:CET
DTSTART:20221030T010000
END:STANDARD
BEGIN:DAYLIGHT
TZOFFSETFROM:+0100
TZOFFSETTO:+0200
TZNAME:CEST
DTSTART:20230326T010000
END:DAYLIGHT
BEGIN:STANDARD
TZOFFSETFROM:+0200
TZOFFSETTO:+0100
TZNAME:CET
DTSTART:20231029T010000
END:STANDARD
BEGIN:DAYLIGHT
TZOFFSETFROM:+0100
TZOFFSETTO:+0200
TZNAME:CEST
DTSTART:20240331T010000
END:DAYLIGHT
BEGIN:STANDARD
TZOFFSETFROM:+0200
TZOFFSETTO:+0100
TZNAME:CET
DTSTART:20241027T010000
END:STANDARD
BEGIN:DAYLIGHT
TZOFFSETFROM:+0100
TZOFFSETTO:+0200
TZNAME:CEST
DTSTART:20250330T010000
END:DAYLIGHT
BEGIN:STANDARD
TZOFFSETFROM:+0200
TZOFFSETTO:+0100
TZNAME:CET
DTSTART:20251026T010000
END:STANDARD
BEGIN:DAYLIGHT
TZOFFSETFROM:+0100
TZOFFSETTO:+0200
TZNAME:CEST
DTSTART:20260329T010000
END:DAYLIGHT
BEGIN:STANDARD
TZOFFSETFROM:+0200
TZOFFSETTO:+0100
TZNAME:CET
DTSTART:20261025T010000
END:STANDARD
BEGIN:DAYLIGHT
TZOFFSETFROM:+0100
TZOFFSETTO:+0200
TZNAME:CEST
DTSTART:20270328T010000
END:DAYLIGHT
BEGIN:STANDARD
TZOFFSETFROM:+0200
TZOFFSETTO:+0100
TZNAME:CET
DTSTART:20271031T010000
END:STANDARD
END:VTIMEZONE
BEGIN:VEVENT
DTSTART;TZID=Europe/Ljubljana:20260313T000000
DTEND;TZID=Europe/Ljubljana:20260315T235959
DTSTAMP:20260421T030853
CREATED:20251106T134224Z
LAST-MODIFIED:20260107T055105Z
UID:53253-1773360000-1773619199@www.diz.si
SUMMARY:Najin zakon v zrelih letih\, 13.-15. 3. 2026\, Izola
DESCRIPTION:Tematski seminar Najin zakon v zrelih letih\n\n\n\nZlata leta ali nočna mora?\n\n\n\n\n\n\n\nKomu je seminar namenjen?\n\n\n\nSeminar je namenjen zakoncem\, ki so poročeni dlje časa; katerih otroci počasi odhajajo od doma; ki so na prehodu iz službe v upokojitev. Dobrodošli pa tudi zakonci\, ki še niste v tem obdobju\, bi se pa radi pripravili na čas\, ko bodo otroci odšli in boste imeli spet več časa drug za drugega. \n\n\n\nNa seminarju bomo razmišljali o:\n\n\n\n\nSva že prestara za gradnjo odnosa\, se še lahko spreminjava?\n\n\n\nKako se soočava z odhajanjem otrok\, kako sprejemava njihove odločitve?\n\n\n\nSkrb za ostarele starše – kako pravilno razumeti 4. Božjo zapoved?\n\n\n\nKakšno dediščino bova pustila za seboj (materialno\, duhovno)?\n\n\n\nAli sva rada skupaj? Kako skrbiva za svoje telo\, dušo in duha? \n\n\n\nSpolnost v zrelih letih.\n\n\n\n\nVoditelji in pričevalci:\n\n\n\n\n\n\n\n\n\n\n\nMarinka in Aleš Čerin\n\n\n\nsta poročena 42 let. Imata 4 odrasle otroke in 7 vnukov. Oba sta upokojena\, vendar še vedno aktivna na različnih področjih\, med drugim tudi kot govornika na seminarjih Družine in Življenja. \n\n\n\n\n\n\n\n\n\n\n\n\n\nSlavko in Saša Štern\n\n\n\nsta poročena 35 let\, starša trem že poročenim hčeram in sinu študentu. Imata 6 vnukov. Oba sta še zaposlena. Že vrsto let pričujeta na seminarju Nepozabni trenutki za naju. O tem\, da sta rada skupaj\, pa bosta po novem pričevala tudi na seminarju Najin zakon v zrelih letih. \n\n\n\n\n\n\n\n\n\nPriporočamo\, da se najprej udeležita temeljnega seminarja Nepozabni trenutki za naju\, ni pa obvezno za udeležbo na tematskem seminarju. \n\n\n\n\n\n\n\n\n\nVEČ O SEMINARJURada bi izvedela več >\n\n\n\n\n\nPOGOSTA VPRAŠANJAMorda zanima tudi vaju >\n\n\n\n\n\nDODATNE INFORMACIJEbrigita@diz.si\, 070 410 555\n\n\n\n\n\n\n\n\n\nPrijava na seminar\n\n\n\nCena seminarja: 360\,00 € \n\n\n\nCena vključuje (cenik): \n\n\n\n\nkotizacijo: 85\,00 €\n\n\n\nnamestitev\, dva polna penziona za dve osebi\, turistična taksa in prijavnina: 275\,00 €\n\n\n\n\nInformacija o odpovedi: Brezplačna odjava s seminarja je možna vsaj 14 dni pred začetkom seminarja\, sicer se kotizacija žal ne povrne. Ob odpovedi do 4 dni pred pričetkom seminarja v hotelu zaračunajo 50% stroškov (izjema je odpoved zaradi obolelosti s covid 19\, bolezni ali smrti v družini) \n\n\n\nPRIJAVNICA\n\n\n\nPrijave so zaprte. Vabljeni na druge seminarje >
URL:https://www.diz.si/dogodek/najin-zakon-v-zrelih-letih-13-15-3-2026-izola/
CATEGORIES:Najin zakon v zrelih letih,Seminarji,Tematski seminarji
ATTACH;FMTTYPE=image/jpeg:https://www.diz.si/wp-content/uploads/2024/10/Najin-zakon-v-zrelih-letih-naslovna-jpg.webp
END:VEVENT
BEGIN:VEVENT
DTSTART;TZID=Europe/Ljubljana:20251114T000000
DTEND;TZID=Europe/Ljubljana:20251116T235959
DTSTAMP:20260421T030853
CREATED:20250416T114203Z
LAST-MODIFIED:20251022T102815Z
UID:50220-1763078400-1763337599@www.diz.si
SUMMARY:Najin zakon v zrelih letih\, 14.-16. 11. 2025\, Crikvenica
DESCRIPTION:Tematski seminar Najin zakon v zrelih letih\n\n\n\nZlata leta ali nočna mora?\n\n\n\n\n\n\n\nKomu je seminar namenjen?\n\n\n\nSeminar je namenjen zakoncem\, ki so poročeni dlje časa; katerih otroci počasi odhajajo od doma; ki so na prehodu iz službe v upokojitev. Dobrodošli pa tudi zakonci\, ki še niste v tem obdobju\, bi se pa radi pripravili na čas\, ko bodo otroci odšli in boste imeli spet več časa drug za drugega. \n\n\n\nNa seminarju bomo razmišljali o:\n\n\n\n\nSva že prestara za gradnjo odnosa\, se še lahko spreminjava?\n\n\n\nKako se soočava z odhajanjem otrok\, kako sprejemava njihove odločitve?\n\n\n\nSkrb za ostarele starše – kako pravilno razumeti 4. Božjo zapoved?\n\n\n\nKakšno dediščino bova pustila za seboj (materialno\, duhovno)?\n\n\n\nAli sva rada skupaj? Kako skrbiva za svoje telo\, dušo in duha? \n\n\n\nSpolnost v zrelih letih.\n\n\n\n\nVoditelji in pričevalci:\n\n\n\n\n\n\n\n\n\n\n\nMarinka in Aleš Čerin\n\n\n\nsta poročena 42 let. Imata 4 odrasle otroke in 7 vnukov. Oba sta upokojena\, vendar še vedno aktivna na različnih področjih\, med drugim tudi kot govornika na seminarjih Družine in Življenja. \n\n\n\n\n\n\n\n\n\n\n\n\n\nSlavko in Saša Štern\n\n\n\nsta poročena 35 let\, starša trem že poročenim hčeram in sinu študentu. Imata 6 vnukov. Oba sta še zaposlena. Že vrsto let pričujeta na seminarju Nepozabni trenutki za naju. O tem\, da sta rada skupaj\, pa bosta po novem pričevala tudi na seminarju Najin zakon v zrelih letih. \n\n\n\n\n\n\n\n\n\nPriporočamo\, da se najprej udeležita temeljnega seminarja Nepozabni trenutki za naju\, ni pa obvezno za udeležbo na tematskem seminarju. \n\n\n\n\n\n\n\n\n\nVEČ O SEMINARJURada bi izvedela več >\n\n\n\n\n\nPOGOSTA VPRAŠANJAMorda zanima tudi vaju >\n\n\n\n\n\nDODATNE INFORMACIJEbrigita@diz.si\, 070 410 555\n\n\n\n\n\n\n\n\n\nPrijava na seminar\n\n\n\nCena seminarja: 255\,00 € \n\n\n\nCena vključuje (cenik): \n\n\n\n\nkotizacijo: 65\,00 €\n\n\n\nnamestitev\, dva polna penziona za dve osebi\, turistična taksa: 190\,00 €\n\n\n\n\nInformacija o odpovedi: Brezplačna odjava s seminarja je možna vsaj 14 dni pred začetkom seminarja\, sicer se kotizacija žal ne povrne. \n\n\n\nPRIJAVNICA
URL:https://www.diz.si/dogodek/najin-zakon-v-zrelih-letih-14-16-11-2025-crikvenica/
CATEGORIES:Najin zakon v zrelih letih,Seminarji,Tematski seminarji
ATTACH;FMTTYPE=image/jpeg:https://www.diz.si/wp-content/uploads/2024/10/Najin-zakon-v-zrelih-letih-naslovna-jpg.webp
END:VEVENT
BEGIN:VEVENT
DTSTART;TZID=Europe/Ljubljana:20251010T000000
DTEND;TZID=Europe/Ljubljana:20251012T235959
DTSTAMP:20260421T030853
CREATED:20250416T082534Z
LAST-MODIFIED:20250416T082534Z
UID:50212-1760054400-1760313599@www.diz.si
SUMMARY:Najin odnos do denarja\, 10.-12. 10. 2025\, Veržej
DESCRIPTION:Tematski seminar Najin odnos do denarja\n\n\n\n\n\n\n\nZakaj?\n\n\n\nDenar nam zakoncem velikokrat dela preglavice\, če ga imamo premalo in celo\, če ga imamo preveč. Denar je vir mnogih prepirov med zakoncema in je eden od najpogostejših razlogov za ločitev. Pravzaprav niti ni vzrok denar\, pač pa različnost odnosa do njega. \n\n\n\nNa seminarju se lotimo tem\, kot so:\n\n\n\n\nmiti o denarju\, ki sva jih prinesla iz svojih družin\, pa jih do sedaj še nisva obravnavala\,\n\n\n\nkaj od denarju pravi svet in kaj Bog\,\n\n\n\nkako naj se oddaljiva od pretiranega potrošništva in kje je najina skupna točka dovolj\,\n\n\n\nzakaj in kako delati družinski proračun – spremljanje in načrtovanje (Bog\, slabi časi\, poraba za življenje)\,\n\n\n\nkaj o zadolževanju pravi Bog in kako se lotiti odplačevanja dolgov\,\n\n\n\nvzgoja otrok za služenje in porabo denarja\,\n\n\n\nkako se pravi čas lotiti dediščine\, da ostanemo v dobrih odnosih (midva z otroki\, otroci med seboj)\,\n\n\n\nkako naj postaneva vesela darovalca.\n\n\n\n\nVoditelja in pričevalca:\n\n\n\n\n\n\n\n\n\n\n\nMarinka in Aleš Čerin\n\n\n\nsta poročena 42 let. Imata 4 odrasle otroke in 7 vnukov. Oba sta upokojena\, vendar še vedno aktivna na različnih področjih\, med drugim tudi kot govornika na seminarjih Družine in Življenja. \n\n\n\n\n\n\n\n\n\nPriporočamo\, da se najprej udeležita temeljnega seminarja Nepozabni trenutki za naju\, ni pa obvezno za udeležbo na tematskem seminarju. \n\n\n\n\n\n\n\n\n\nVEČ O SEMINARJURada bi izvedela več >\n\n\n\n\n\nPOGOSTA VPRAŠANJAMorda zanima tudi vaju >\n\n\n\n\n\nDODATNE INFORMACIJEbrigita@diz.si\, 070 410 555\n\n\n\n\n\n\n\n\n\nPrijava na seminar\n\n\n\nCena seminarja: 248\,00 € \n\n\n\nCena vključuje (cenik): \n\n\n\n\nkotizacijo: 65\,00 €\n\n\n\nnamestitev\, dva polna penziona za dve osebi\, turistična taksa: 183\,00 €\n\n\n\n\nInformacija o odpovedi: Brezplačna odjava s seminarja je možna vsaj 14 dni pred začetkom seminarja\, sicer se kotizacija žal ne povrne. \n\n\n\nPRIJAVNICA
URL:https://www.diz.si/dogodek/najin-odnos-do-denarja-10-12-10-2025-verzej/
CATEGORIES:Najin odnos do denarja,Seminarji,Tematski seminarji
ATTACH;FMTTYPE=image/jpeg:https://www.diz.si/wp-content/uploads/2025/04/Najin_odnos_do_denarja_naslovna.webp
END:VEVENT
BEGIN:VEVENT
DTSTART;TZID=Europe/Ljubljana:20250214T000000
DTEND;TZID=Europe/Ljubljana:20250216T235959
DTSTAMP:20260421T030853
CREATED:20241026T175642Z
LAST-MODIFIED:20241219T095641Z
UID:48700-1739491200-1739750399@www.diz.si
SUMMARY:Najin zakon v zrelih letih\, 14.-16. 2. 2025\, Veržej
DESCRIPTION:Tematski seminar Najin zakon v zrelih letih\n\n\n\nZlata leta ali nočna mora?\n\n\n\n\n\n\n\nKomu je seminar namenjen?\n\n\n\nSeminar je namenjen zakoncem\, ki so poročeni dlje časa; katerih otroci počasi odhajajo od doma; ki so na prehodu iz službe v upokojitev. Dobrodošli pa tudi zakonci\, ki še niste v tem obdobju\, bi se pa radi pripravili na čas\, ko bodo otroci odšli in boste imeli spet več časa drug za drugega. \n\n\n\nNa seminarju bomo razmišljali o:\n\n\n\n\nSva že prestara za gradnjo odnosa\, se še lahko spreminjava?\n\n\n\nKako se soočava z odhajanjem otrok\, kako sprejemava njihove odločitve?\n\n\n\nSkrb za ostarele starše – kako pravilno razumeti 4. Božjo zapoved?\n\n\n\nKakšno dediščino bova pustila za seboj (materialno\, duhovno)?\n\n\n\nAli sva rada skupaj? Kako skrbiva za svoje telo\, dušo in duha? \n\n\n\nSpolnost v zrelih letih.\n\n\n\n\nVoditelji in pričevalci:\n\n\n\n\n\n\n\n\n\n\n\nMarinka in Aleš Čerin\n\n\n\nsta letos praznovala 40 let poroke. Imata 4 odrasle otroke in 7 vnukov. Oba sta upokojena\, vendar še vedno aktivna na različnih področjih\, med drugim tudi kot govornika na seminarjih Družine in Življenja. \n\n\n\n\n\n\n\n\n\n\n\n\n\nSlavko in Saša Štern\n\n\n\nsta poročena 33 let\, starša trem že poročenim hčeram in sinu študentu. Imata 6 vnukov. Oba sta še zaposlena. Že vrsto let pričujeta na seminarju Nepozabni trenutki za naju. O tem\, da sta rada skupaj\, pa bosta po novem pričevala tudi na seminarju Najin zakon v zrelih letih. \n\n\n\n\n\n\n\n\n\nPriporočamo\, da se najprej udeležita temeljnega seminarja Nepozabni trenutki za naju\, ni pa obvezno za udeležbo na tematskem seminarju. \n\n\n\n\n\n\n\n\n\nVEČ O SEMINARJURada bi izvedela več >\n\n\n\n\n\nPOGOSTA VPRAŠANJAMorda zanima tudi vaju >\n\n\n\n\n\nDODATNE INFORMACIJEbrigita@diz.si\, 070 410 555\n\n\n\n\n\n\n\n\n\nPrijava na seminar\n\n\n\nCena seminarja: 248\,00 € \n\n\n\nCena vključuje (cenik): \n\n\n\n\nkotizacijo: 65\,00 €\n\n\n\nnamestitev\, dva polna penziona za dve osebi\, turistična taksa: 183\,00 €\n\n\n\n\nInformacija o odpovedi: Brezplačna odjava s seminarja je možna vsaj 14 dni pred začetkom seminarja\, sicer se kotizacija žal ne povrne. \n\n\n\nPRIJAVNICA
URL:https://www.diz.si/dogodek/najin-zakon-v-zrelih-letih-14-16-2-2025-verzej/
CATEGORIES:Najin zakon v zrelih letih,Seminarji,Tematski seminarji
ATTACH;FMTTYPE=image/jpeg:https://www.diz.si/wp-content/uploads/2024/10/Najin-zakon-v-zrelih-letih-naslovna-jpg.webp
END:VEVENT
BEGIN:VEVENT
DTSTART;VALUE=DATE:20240412
DTEND;VALUE=DATE:20240415
DTSTAMP:20260421T030853
CREATED:20231022T090502Z
LAST-MODIFIED:20240114T220224Z
UID:44231-1712880000-1713139199@www.diz.si
SUMMARY:Najin odnos do denarja\, 12.-14. 4. 2024\, Veržej
DESCRIPTION:Tematski seminar\nNajin odnos do denarja\n\nDenar nam zakoncem velikokrat dela preglavice\, če ga imamo premalo in celo\, če ga imamo preveč. \nV petih nagovorih smo se lotili tem\, kot so: \n\nmiti o denarju\, ki sva jih prinesla iz svojih družin\, pa jih do sedaj še nisva obravnavala\,\nkaj od denarju pravi svet in kaj Bog\,\nkako naj se oddaljiva od pretiranega potrošništva in kje je najina skupna točka dovolj\,\nzakaj in kako delati družinski proračun – spremljanje in načrtovanje (Bog\, slabi časi\, poraba za življenje)\,\nkaj o zadolževanju pravi Bog in kako se lotiti odplačevanja dolgov\,\nvzgoja otrok za služenje in porabo denarja\,\nkako se pravi čas lotiti dediščine\, da ostanemo v dobrih odnosih (midva z otroki\, otroci med seboj)\,\nkako naj postaneva vesela darovalca.\n\nVoditelja in pričevalca: Aleš in Marinka Čerin \n\n\nPriporočamo\, da se najprej udeležita temeljnega seminarja Nepozabni trenutki za naju\, ni pa obvezno za udeležbo na tematskem seminarju. \n\nPOSEBNOST!\nNa tej izvedbi tematskega seminarja bo izjemoma organizirano tudi varstvo za otroke. \nRada bi več podatkov o seminarju. \nPreden pokličeta\, poglejta odgovore na pogosta vprašanja. \nErika Novak: erika@diz.si ali 041 45 96 66 \nPrijava na seminar\nCena seminarja: od 241\,00 € \nCena vključuje (glej cenik): \n\nkotizacijo: 65\,00 € za zakonski par oz. 95\,00 €\, če so z vama tudi otroci (račun pošljemo v mesecu pred seminarjem);\nnamestitev in dva polna penziona in turistična taksa za dve osebi: 176\,00 €\ncene za otroke si oglejte v ceniku\n\nPrijavnica\n \nPOMEMBNO: Pridržujemo si pravico do dodatne omejitve števila udeležencev\, spremembe načina izvedbe ali odpovedi seminarja glede na epidemiološke razmere in državne ukrepe\, ki bodo veljali v času izvedbe seminarjev in dogodkov. Prijavljeni boste o teh spremembah obveščeni po e-pošti.
URL:https://www.diz.si/dogodek/najin-odnos-do-denarja-12-14-4-2024-verzej/
LOCATION:Veržej\, Penzion Mavrica\, Puščenjakova ulica 1\, Veržej\, 9241\, Slovenija
CATEGORIES:Najin odnos do denarja,Seminarji
ATTACH;FMTTYPE=image/jpeg:https://www.diz.si/wp-content/uploads/christian-dubovan-686398-unsplash.webp
END:VEVENT
BEGIN:VEVENT
DTSTART;VALUE=DATE:20231110
DTEND;VALUE=DATE:20231113
DTSTAMP:20260421T030853
CREATED:20230511T180103Z
LAST-MODIFIED:20231020T040241Z
UID:42837-1699574400-1699833599@www.diz.si
SUMMARY:Najin odnos do denarja\, 10.-12. 11. 2023\, Crikvenica
DESCRIPTION:Tematski seminar\nNajin odnos do denarja\n\nDenar nam zakoncem velikokrat dela preglavice\, če ga imamo premalo in celo\, če ga imamo preveč. \nV petih nagovorih smo se lotili tem\, kot so: \n\nmiti o denarju\, ki sva jih prinesla iz svojih družin\, pa jih do sedaj še nisva obravnavala\,\nkaj od denarju pravi svet in kaj Bog\,\nkako naj se oddaljiva od pretiranega potrošništva in kje je najina skupna točka dovolj\,\nzakaj in kako delati družinski proračun – spremljanje in načrtovanje (Bog\, slabi časi\, poraba za življenje)\,\nkaj o zadolževanju pravi Bog in kako se lotiti odplačevanja dolgov\,\nvzgoja otrok za služenje in porabo denarja\,\nkako se pravi čas lotiti dediščine\, da ostanemo v dobrih odnosih (midva z otroki\, otroci med seboj)\,\nkako naj postaneva vesela darovalca.\n\nVoditelja in pričevalca: Aleš in Marinka Čerin \nPriporočamo\, da se najprej udeležita temeljnega seminarja Nepozabni trenutki za naju\, ni pa obvezno za udeležbo na tematskem seminarju. \nRada bi več podatkov o seminarju. \nPreden pokličeta poglejta odgovore na pogosta vprašanja. \nErika Novak: erika@diz.si ali 041 45 96 66 \nPrijava na seminar\nCena seminarja: 229\,00 € \nCena vključuje (cenik): \n\nkotizacijo: 61\,00 € (po prijavi pošljemo račun\, DDV vključen v ceno)\nnamestitev in dva polna penziona in turistična taksa za dve osebi: 168\,00 €\n\nPrijavnica\n \nPOMEMBNO: Pridržujemo si pravico do dodatne omejitve števila udeležencev\, spremembe načina izvedbe ali odpovedi seminarja glede na epidemiološke razmere in državne ukrepe\, ki bodo veljali v času izvedbe seminarjev in dogodkov. Prijavljeni boste o teh spremembah obveščeni po e-pošti.
URL:https://www.diz.si/dogodek/najin-odnos-do-denarja-10-12-11-2023-crikvenica/
LOCATION:Crikvenica\, hotel Life Center\, Šetalište Vladimira Nazora 55\, Crikvenica\, 51260\, Hrvaška
CATEGORIES:Najin odnos do denarja,Seminarji
ATTACH;FMTTYPE=image/jpeg:https://www.diz.si/wp-content/uploads/christian-dubovan-686398-unsplash.webp
END:VEVENT
BEGIN:VEVENT
DTSTART;VALUE=DATE:20221021
DTEND;VALUE=DATE:20221024
DTSTAMP:20260421T030853
CREATED:20220406T201309Z
LAST-MODIFIED:20221012T200523Z
UID:30650-1666310400-1666569599@www.diz.si
SUMMARY:Najin odnos do denarja\, 21.-23. 10. 2022\, Veržej
DESCRIPTION:Tematski seminar\nNajin odnos do denarja\n\nDenar nam zakoncem velikokrat dela preglavice\, če ga imamo premalo in celo\, če ga imamo preveč. \nV petih nagovorih smo se lotili tem\, kot so: \n\nmiti o denarju\, ki sva jih prinesla iz svojih družin\, pa jih do sedaj še nisva obravnavala\,\nkaj od denarju pravi svet in kaj Bog\,\nkako naj se oddaljiva od pretiranega potrošništva in kje je najina skupna točka dovolj\,\nzakaj in kako delati družinski proračun – spremljanje in načrtovanje (Bog\, slabi časi\, poraba za življenje)\,\nkaj o zadolževanju pravi Bog in kako se lotiti odplačevanja dolgov\,\nvzgoja otrok za služenje in porabo denarja\,\nkako se pravi čas lotiti dediščine\, da ostanemo v dobrih odnosih (midva z otroki\, otroci med seboj)\,\nkako naj postaneva vesela darovalca.\n\nVoditelja in pričevalca: Aleš in Marinka Čerin \nPriporočamo\, da se najprej udeležita temeljnega seminarja Nepozabni trenutki za naju\, ni pa obvezno za udeležbo na tematskem seminarju. \nRada bi več podatkov o seminarju. \nPreden pokličeta poglejta odgovore na pogosta vprašanja. \nErika Novak: erika@diz.si ali 041 45 96 66 \nPrijava na seminar\nCena seminarja: 190\,00 € \nCena vključuje (cenik): \n\nkotizacijo: 50\,00 € (po prijavi pošljemo račun)\nnamestitev in dva polna penziona za dve osebi: 140\,00 €\n\n\nPOMEMBNO: Pridržujemo si pravico do dodatne omejitve števila udeležencev\, spremembe načina izvedbe ali odpovedi seminarja glede na epidemiološke razmere in državne ukrepe\, ki bodo veljali v času izvedbe seminarjev in dogodkov. Prijavljeni boste o teh spremembah obveščeni po e-pošti. \nLe še nekaj prostih mest:
URL:https://www.diz.si/dogodek/najin-odnos-do-denarja-21-23-10-2022-verzej/
LOCATION:Veržej\, Penzion Mavrica\, Puščenjakova ulica 1\, Veržej\, 9241\, Slovenija
CATEGORIES:Najin odnos do denarja,Seminarji
ATTACH;FMTTYPE=image/jpeg:https://www.diz.si/wp-content/uploads/christian-dubovan-686398-unsplash.webp
END:VEVENT
BEGIN:VEVENT
DTSTART;VALUE=DATE:20220204
DTEND;VALUE=DATE:20220207
DTSTAMP:20260421T030853
CREATED:20220125T130808Z
LAST-MODIFIED:20220125T130808Z
UID:27261-1643932800-1644191999@www.diz.si
SUMMARY:Najin odnos do denarja\, 4.-6. 2. 2022\, V ŽIVO na ZOOM-u
DESCRIPTION:Tematski seminar\nNajin odnos do denarja\nV živo na Zoom-u 4.-6. 2. 2022\n\nDenar nam zakoncem velikokrat dela preglavice\, če ga imamo premalo in celo\, če ga imamo preveč. \nV petih nagovorih smo se lotili tem\, kot so: \n\nmiti o denarju\, ki sva jih prinesla iz svojih družin\, pa jih do sedaj še nisva obravnavala\,\nkaj od denarju pravi svet in kaj Bog\,\nkako naj se oddaljiva od pretiranega potrošništva in kje je najina skupna točka dovolj\,\nzakaj in kako delati družinski proračun – spremljanje in načrtovanje (Bog\, slabi časi\, poraba za življenje)\,\nkaj o zadolževanju pravi Bog in kako se lotiti odplačevanja dolgov\,\nvzgoja otrok za služenje in porabo denarja\,\nkako se pravi čas lotiti dediščine\, da ostanemo v dobrih odnosih (midva z otroki\, otroci med seboj)\,\nkako naj postaneva vesela darovalca.\n\nVoditelja in pričevalca: Aleš in Marinka Čerin \nPriporočamo\, da se najprej udeležita temeljnega seminarja Nepozabni trenutki za naju\, ni pa obvezno za udeležbo na tematskem seminarju. \nPRIJAVE so možne do četrtka\, 3. 2. 2022.\nPOZOR! Dostop do spletnega seminarja bosta prejela po e-pošti (preverita tudi vsiljeno pošto/spam ali promocije). V primeru\, da naše pošte ne dobite\, nam sporočita.\nRada bi več podatkov o seminarju. \nPreden pokličeta\, poglejta odgovore na pogosta vprašanja. \nErika Novak: erika@diz.si ali 041 45 96 66 \nUrnik:\nPETEK\n\n20.00 – 21.30: Uvodno srečanje + prvi nagovor: Midva in denar\n21.30 – 22.30: Pogovor med zakoncema\n\nSOBOTA\n\n8.45 – 9.00: Uvod v dan: pesem\, molitev\, Božja beseda\n9.00 – 10.00: Drugi nagovor: Kaj pravi Bog in kaj pravi svet\n10.00 – 11.00: Pogovor med zakoncema\n11.00 – 12.00: Tretji nagovor: Pasti potrošništva in koliko je dovolj\n12.00 – 13.00: Pogovor med zakoncema\nprosto popoldne\n18.00 – 20.00: Četrti nagovor + delavnice: Proračun\, dolgovi\, otroci in denar\, dediščina\n21.00 – 22.00: Večerna aktivnost (po dogovoru)\n\nNEDELJA\n\n8.00 – 9.00: Peti nagovor: Bodiva vesela darovalca\n9.00 – 12.00: čas\, da odideta k sveti maši\n12.00 – 13.00: Zaključni pogovor\, vprašanja\, delitev dobrih spoznanj\, vrednotenje\n\nKako izgleda seminar v živo na Zoom-u?\nNa dan pričetka seminarja bosta na svoj e-poštni naslov prejela povezavo do Zoom srečanja in e-gradiva (pdf datoteko\, ki si jo lahko po želji tudi natisneta).\n \nPriporočamo\, da pripravita Sveto pismo\, zvezek in svinčnik. Rezervirajta si čas\, da se skupaj udeležita srečanj v živo na Zoom-u (po urniku) in se nato pogovorita ob iztočnicah. \nPrispevek za seminar:\n50 € \nPodatki za nakazilo:\n\nDruštvo Družina in Življenje\, Grebenčeva cesta 4\, 8273 Leskovec pri Krškem\nTRR: SI56 0298 2025 5101 623\, odprt pri NLB (BIC banke oz. SWIFT koda: LJBASI2X)\nReferenca (sklic): 00 760116\nKoda namena: CHAR\nNamen nakazila: DAR DIŽ \nAli pa preprosto uporabite QR kodo z vsemi podatki:\n \nProsimo\, da prispevek nakažeta do četrtka\, 3. februarja 2022. Če plačila ne bosta izvedla\, vajine prijave ne bomo mogli upoštevati. Za tiste\, ki koristite darilni bon\, je prispevek za seminar že poravnan. \n\nNakazilo iz tujine\n\n\n\n\n\n\n\n\n\n\n\nName of Bank: NOVA LJUBLJANSKA BANKA D.D.\nAddress of Bank: TRG REPUBLIKE 2\, 1520 LJUBLJANA\nSWIFT Code of Bank: LJBASI2X\nAccount Number (IBAN): SI56 0298 2025 5101 623\nAccount Holder: DRUŠTVO DRUŽINA IN ŽIVLJENJE\nAddress of Account Holder: GREBENČEVA CESTA 4\, 8273 LESKOVEC PRI KRŠKEM\n\n\n\n\n\n\n\n\n\n\n\nPrijavita se:\nPrijave so odprte do četrtka\, 3. 2. 2022!
URL:https://www.diz.si/dogodek/najin-odnos-do-denarja-4-6-2-2022-v-zivo-na-zoom-u/
LOCATION:Pri vas doma (Zoom)
CATEGORIES:Najin odnos do denarja,Seminarji
ATTACH;FMTTYPE=image/jpeg:https://www.diz.si/wp-content/uploads/christian-dubovan-686398-unsplash.webp
END:VEVENT
BEGIN:VEVENT
DTSTART;VALUE=DATE:20220204
DTEND;VALUE=DATE:20220207
DTSTAMP:20260421T030853
CREATED:20211109T124705Z
LAST-MODIFIED:20220126T094124Z
UID:23960-1643932800-1644191999@www.diz.si
SUMMARY:Najin odnos do denarja\, 4.-6. 2. 2022\, Veržej - ODPOVEDAN
DESCRIPTION:Tematski seminar\nNajin odnos do denarja\n\nDenar nam zakoncem velikokrat dela preglavice\, če ga imamo premalo in celo\, če ga imamo preveč. \nV petih nagovorih smo se lotili tem\, kot so: \n\nmiti o denarju\, ki sva jih prinesla iz svojih družin\, pa jih do sedaj še nisva obravnavala\,\nkaj od denarju pravi svet in kaj Bog\,\nkako naj se oddaljiva od pretiranega potrošništva in kje je najina skupna točka dovolj\,\nzakaj in kako delati družinski proračun – spremljanje in načrtovanje (Bog\, slabi časi\, poraba za življenje)\,\nkaj o zadolževanju pravi Bog in kako se lotiti odplačevanja dolgov\,\nvzgoja otrok za služenje in porabo denarja\,\nkako se pravi čas lotiti dediščine\, da ostanemo v dobrih odnosih (midva z otroki\, otroci med seboj)\,\nkako naj postaneva vesela darovalca.\n\nVoditelja in pričevalca: Aleš in Marinka Čerin \nPriporočamo\, da se najprej udeležita temeljnega seminarja Nepozabni trenutki za naju\, ni pa obvezno za udeležbo na tematskem seminarju. \nRada bi več podatkov o seminarju. \nPreden pokličeta poglejta odgovore na pogosta vprašanja. \nErika Novak: erika@diz.si ali 041 45 96 66 \nPrijava na seminar\nCena seminarja: 170\,00 € \nCena vključuje (cenik): \n\nkotizacijo: 50\,00 € (po prijavi pošljemo račun)\nnamestitev in dva polna penziona za dve osebi: 120\,00 €\n\n\nUpoštevali bomo pravilo PCT\, ker skrbimo za vašo varnost in varnost vaših bližnjih. \n\nPOMEMBNO: Pridržujemo si pravico do dodatne omejitve števila udeležencev\, spremembe načina izvedbe ali odpovedi seminarja glede na epidemiološke razmere in državne ukrepe\, ki bodo veljali v času izvedbe seminarjev in dogodkov. Prijavljeni boste o teh spremembah obveščeni po e-pošti. \nSEMINAR JE ODPOVEDAN.\nIsti seminar je v istem terminu na voljo V ŽIVO na ZOOM-u >
URL:https://www.diz.si/dogodek/najin-odnos-do-denarja-4-6-2-2022-verzej/
LOCATION:Veržej\, Penzion Mavrica\, Puščenjakova ulica 1\, Veržej\, 9241\, Slovenija
CATEGORIES:Najin odnos do denarja,Seminarji
ATTACH;FMTTYPE=image/jpeg:https://www.diz.si/wp-content/uploads/christian-dubovan-686398-unsplash.webp
END:VEVENT
BEGIN:VEVENT
DTSTART;VALUE=DATE:20211022
DTEND;VALUE=DATE:20211025
DTSTAMP:20260421T030853
CREATED:20210628T113606Z
LAST-MODIFIED:20211018T150216Z
UID:20099-1634860800-1635119999@www.diz.si
SUMMARY:Najin odnos do denarja\, 22.-24.10.2021\, Veržej
DESCRIPTION:Tematski seminar\nNajin odnos do denarja\n\n\nDenar nam zakoncem velikokrat dela preglavice\, če ga imamo premalo in celo\, če ga imamo preveč. Veliko zmotnih konceptov in mitov o denarju sva zakonca prinesla iz svojih družin. Kako se o tem pogovarjati?\nKako spremljati svoj denarni tok\, kako načrtovati in kako se ubraniti dolgov v času divjega potrošništva in počasi prihajati do edinosti med zakoncema?\nKako naj postaneva vesela darovalca?\n\nVoditelja in pričevalca: Aleš in Marinka Čerin \nPriporočamo\, da se najprej udeležita temeljnega seminarja Nepozabni trenutki za naju\, ni pa obvezno za udeležbo na tematskem seminarju. \nRada bi več podatkov o seminarju. \nPreden pokličeta poglejta odgovore na pogosta vprašanja. \nErika Novak: erika@diz.si ali 041 459 666 \nPrijava na seminar\nCena seminarja: 170\,00 € \nCena vključuje (cenik): \n\nkotizacijo: 50\,00 € (po prijavi pošljemo račun)\nnamestitev in dva polna penziona za dve osebi: 120\,00 €\n\n\nUpoštevali bomo pravilo PCT\, ker skrbimo za vašo varnost in varnost vaših bližnjih. \n\nPOMEMBNO: Pridržujemo si pravico do dodatne omejitve števila udeležencev\, spremembe načina izvedbe ali odpovedi seminarja glede na epidemiološke razmere in državne ukrepe\, ki bodo veljali v času izvedbe seminarjev in dogodkov. Prijavljeni boste o teh spremembah obveščeni po e-pošti. \nVsa mesta so zasedena. Vpisujemo na ČAKALNO LISTO:
URL:https://www.diz.si/dogodek/najin-odnos-do-denarja-22-24-10-2021-verzej/
LOCATION:Veržej\, Penzion Mavrica\, Puščenjakova ulica 1\, Veržej\, 9241\, Slovenija
CATEGORIES:Najin odnos do denarja,Seminarji
ATTACH;FMTTYPE=image/jpeg:https://www.diz.si/wp-content/uploads/christian-dubovan-686398-unsplash.webp
END:VEVENT
END:VCALENDAR