BEGIN:VCALENDAR
VERSION:2.0
PRODID:-//Družina in Življenje - ECPv6.15.20//NONSGML v1.0//EN
CALSCALE:GREGORIAN
METHOD:PUBLISH
X-WR-CALNAME:Družina in Življenje
X-ORIGINAL-URL:https://www.diz.si
X-WR-CALDESC:Dogodki za Družina in Življenje
REFRESH-INTERVAL;VALUE=DURATION:PT1H
X-Robots-Tag:noindex
X-PUBLISHED-TTL:PT1H
BEGIN:VTIMEZONE
TZID:Europe/Ljubljana
BEGIN:DAYLIGHT
TZOFFSETFROM:+0100
TZOFFSETTO:+0200
TZNAME:CEST
DTSTART:20240331T010000
END:DAYLIGHT
BEGIN:STANDARD
TZOFFSETFROM:+0200
TZOFFSETTO:+0100
TZNAME:CET
DTSTART:20241027T010000
END:STANDARD
BEGIN:DAYLIGHT
TZOFFSETFROM:+0100
TZOFFSETTO:+0200
TZNAME:CEST
DTSTART:20250330T010000
END:DAYLIGHT
BEGIN:STANDARD
TZOFFSETFROM:+0200
TZOFFSETTO:+0100
TZNAME:CET
DTSTART:20251026T010000
END:STANDARD
BEGIN:DAYLIGHT
TZOFFSETFROM:+0100
TZOFFSETTO:+0200
TZNAME:CEST
DTSTART:20260329T010000
END:DAYLIGHT
BEGIN:STANDARD
TZOFFSETFROM:+0200
TZOFFSETTO:+0100
TZNAME:CET
DTSTART:20261025T010000
END:STANDARD
END:VTIMEZONE
BEGIN:VEVENT
DTSTART;TZID=Europe/Ljubljana:20251010T000000
DTEND;TZID=Europe/Ljubljana:20251012T235959
DTSTAMP:20260421T120030
CREATED:20250416T082534Z
LAST-MODIFIED:20250416T082534Z
UID:50212-1760054400-1760313599@www.diz.si
SUMMARY:Najin odnos do denarja\, 10.-12. 10. 2025\, Veržej
DESCRIPTION:Tematski seminar Najin odnos do denarja\n\n\n\n\n\n\n\nZakaj?\n\n\n\nDenar nam zakoncem velikokrat dela preglavice\, če ga imamo premalo in celo\, če ga imamo preveč. Denar je vir mnogih prepirov med zakoncema in je eden od najpogostejših razlogov za ločitev. Pravzaprav niti ni vzrok denar\, pač pa različnost odnosa do njega. \n\n\n\nNa seminarju se lotimo tem\, kot so:\n\n\n\n\nmiti o denarju\, ki sva jih prinesla iz svojih družin\, pa jih do sedaj še nisva obravnavala\,\n\n\n\nkaj od denarju pravi svet in kaj Bog\,\n\n\n\nkako naj se oddaljiva od pretiranega potrošništva in kje je najina skupna točka dovolj\,\n\n\n\nzakaj in kako delati družinski proračun – spremljanje in načrtovanje (Bog\, slabi časi\, poraba za življenje)\,\n\n\n\nkaj o zadolževanju pravi Bog in kako se lotiti odplačevanja dolgov\,\n\n\n\nvzgoja otrok za služenje in porabo denarja\,\n\n\n\nkako se pravi čas lotiti dediščine\, da ostanemo v dobrih odnosih (midva z otroki\, otroci med seboj)\,\n\n\n\nkako naj postaneva vesela darovalca.\n\n\n\n\nVoditelja in pričevalca:\n\n\n\n\n\n\n\n\n\n\n\nMarinka in Aleš Čerin\n\n\n\nsta poročena 42 let. Imata 4 odrasle otroke in 7 vnukov. Oba sta upokojena\, vendar še vedno aktivna na različnih področjih\, med drugim tudi kot govornika na seminarjih Družine in Življenja. \n\n\n\n\n\n\n\n\n\nPriporočamo\, da se najprej udeležita temeljnega seminarja Nepozabni trenutki za naju\, ni pa obvezno za udeležbo na tematskem seminarju. \n\n\n\n\n\n\n\n\n\nVEČ O SEMINARJURada bi izvedela več >\n\n\n\n\n\nPOGOSTA VPRAŠANJAMorda zanima tudi vaju >\n\n\n\n\n\nDODATNE INFORMACIJEbrigita@diz.si\, 070 410 555\n\n\n\n\n\n\n\n\n\nPrijava na seminar\n\n\n\nCena seminarja: 248\,00 € \n\n\n\nCena vključuje (cenik): \n\n\n\n\nkotizacijo: 65\,00 €\n\n\n\nnamestitev\, dva polna penziona za dve osebi\, turistična taksa: 183\,00 €\n\n\n\n\nInformacija o odpovedi: Brezplačna odjava s seminarja je možna vsaj 14 dni pred začetkom seminarja\, sicer se kotizacija žal ne povrne. \n\n\n\nPRIJAVNICA
URL:https://www.diz.si/dogodek/najin-odnos-do-denarja-10-12-10-2025-verzej/
CATEGORIES:Najin odnos do denarja,Seminarji,Tematski seminarji
ATTACH;FMTTYPE=image/jpeg:https://www.diz.si/wp-content/uploads/2025/04/Najin_odnos_do_denarja_naslovna.webp
END:VEVENT
END:VCALENDAR