BEGIN:VCALENDAR
VERSION:2.0
PRODID:-//Družina in Življenje - ECPv6.15.18//NONSGML v1.0//EN
CALSCALE:GREGORIAN
METHOD:PUBLISH
X-WR-CALNAME:Družina in Življenje
X-ORIGINAL-URL:https://www.diz.si
X-WR-CALDESC:Dogodki za Družina in Življenje
REFRESH-INTERVAL;VALUE=DURATION:PT1H
X-Robots-Tag:noindex
X-PUBLISHED-TTL:PT1H
BEGIN:VTIMEZONE
TZID:Europe/Ljubljana
BEGIN:DAYLIGHT
TZOFFSETFROM:+0100
TZOFFSETTO:+0200
TZNAME:CEST
DTSTART:20200329T010000
END:DAYLIGHT
BEGIN:STANDARD
TZOFFSETFROM:+0200
TZOFFSETTO:+0100
TZNAME:CET
DTSTART:20201025T010000
END:STANDARD
BEGIN:DAYLIGHT
TZOFFSETFROM:+0100
TZOFFSETTO:+0200
TZNAME:CEST
DTSTART:20210328T010000
END:DAYLIGHT
BEGIN:STANDARD
TZOFFSETFROM:+0200
TZOFFSETTO:+0100
TZNAME:CET
DTSTART:20211031T010000
END:STANDARD
BEGIN:DAYLIGHT
TZOFFSETFROM:+0100
TZOFFSETTO:+0200
TZNAME:CEST
DTSTART:20220327T010000
END:DAYLIGHT
BEGIN:STANDARD
TZOFFSETFROM:+0200
TZOFFSETTO:+0100
TZNAME:CET
DTSTART:20221030T010000
END:STANDARD
END:VTIMEZONE
BEGIN:VEVENT
DTSTART;TZID=Europe/Ljubljana:20210520T200000
DTEND;TZID=Europe/Ljubljana:20210520T200000
DTSTAMP:20260421T072552
CREATED:20210512T112551Z
LAST-MODIFIED:20210512T112551Z
UID:18476-1621540800-1621540800@www.diz.si
SUMMARY:ePričevanje Mateja in Petre Berčan: "Želela sem odnos - kupil mi je psa"
DESCRIPTION:.\nMATEJ IN PETRA BERČAN\nŽelela sem odnos – kupil mi je psa\n \n\n \n \n \n\n\n \n \n\nMatej in Petra prihajata s Police pri Grosupljem\, poročena sta 19 let\, podarjeni so jima bili štirje otroci. Matej je zaposlen v proizvodnji medicinske opreme\, Petra je računovodkinja na Gimnaziji Želimlje. \nMatej prihaja iz tradicionalne krščanske družine\, Petra pa je odraščala v enostarševski družini\, brez očeta. To se odraža v njunem vsakdanu\, še posebej kadar je treba odreagirati hitro. Ko se odzoveta brez razmisleka in tako\, kot sta navajena iz njunih matičnih družin\, ju to vodi le v neskončni krog prepirov. \nMoč za premagovanje slabe volje in padcev črpata iz vsakodnevnega prebiranja Svetega pisma in sodelovanja v zakonski skupini. Vesta\, da če se imata rada onadva\, so tudi otroci mirni in zadovoljni. In če dovolita\, da Gospod gradi njun zakon in odnos\, bo tudi vse\, s čimer se v življenju srečata\, obrodilo dober sad! \n. \nVSTOP PROST\, vabljeni vsi!\nPovezavo do Zoom srečanja dobita na podlagi prijave:\n \n \n \n\n \n \n \nPRIJAVA
URL:https://www.diz.si/dogodek/epricevanje-mateja-in-petre-bercan-zelela-sem-odnos-kupil-mi-je-psa/
LOCATION:Pri vas doma (Zoom)
CATEGORIES:Drugi dogodki,Pričevanje,Spletno srečanje
ATTACH;FMTTYPE=image/jpeg:https://www.diz.si/wp-content/uploads/5-3.jpg
END:VEVENT
END:VCALENDAR