BEGIN:VCALENDAR
VERSION:2.0
PRODID:-//Družina in Življenje - ECPv6.15.18//NONSGML v1.0//EN
CALSCALE:GREGORIAN
METHOD:PUBLISH
X-WR-CALNAME:Družina in Življenje
X-ORIGINAL-URL:https://www.diz.si
X-WR-CALDESC:Dogodki za Družina in Življenje
REFRESH-INTERVAL;VALUE=DURATION:PT1H
X-Robots-Tag:noindex
X-PUBLISHED-TTL:PT1H
BEGIN:VTIMEZONE
TZID:Europe/Ljubljana
BEGIN:DAYLIGHT
TZOFFSETFROM:+0100
TZOFFSETTO:+0200
TZNAME:CEST
DTSTART:20240331T010000
END:DAYLIGHT
BEGIN:STANDARD
TZOFFSETFROM:+0200
TZOFFSETTO:+0100
TZNAME:CET
DTSTART:20241027T010000
END:STANDARD
BEGIN:DAYLIGHT
TZOFFSETFROM:+0100
TZOFFSETTO:+0200
TZNAME:CEST
DTSTART:20250330T010000
END:DAYLIGHT
BEGIN:STANDARD
TZOFFSETFROM:+0200
TZOFFSETTO:+0100
TZNAME:CET
DTSTART:20251026T010000
END:STANDARD
BEGIN:DAYLIGHT
TZOFFSETFROM:+0100
TZOFFSETTO:+0200
TZNAME:CEST
DTSTART:20260329T010000
END:DAYLIGHT
BEGIN:STANDARD
TZOFFSETFROM:+0200
TZOFFSETTO:+0100
TZNAME:CET
DTSTART:20261025T010000
END:STANDARD
END:VTIMEZONE
BEGIN:VEVENT
DTSTART;TZID=Europe/Ljubljana:20251126T173000
DTEND;TZID=Europe/Ljubljana:20251126T200000
DTSTAMP:20260420T065053
CREATED:20251022T122638Z
LAST-MODIFIED:20260407T103126Z
UID:53137-1764178200-1764187200@www.diz.si
SUMMARY:Družina in podjetniško življenje\, 26. 11. 2025
DESCRIPTION:Prvo srečanje podjetnikov Družine in Življenja\n\n\n\nBiti podjetnik danes ni lahko. Biti podjetnik in imeti družino je še težje. Biti uspešen podjetnik\, ki živi krščanske vrednote\, pa se lahko zdi celo nemogoče. Prav tu se skriva eden največjih izzivov našega časa – kako ostati zvest sebi\, družini in Bogu tudi v podjetniškem svetu. \n\n\n\nTAKOJ Na prijavo\n\n\n\nKo Družina in Življenje praznuje 25 let delovanja\, bi radi tudi za podjetnike\, ki vam je družina pomembna\, ustvarili odprt prostor\, kjer boste našli navdih in skupnost\, v kateri bomo lahko iskreno\, brez fasad\, z resničnimi izkušnjami in zgodbami skupaj raziskovali\, kako združiti podjetništvo\, družino in vero. \n\n\n\nV sredo\, 26. novembra\, ob 17.30 se bomo srečali v prostorih CEED na Brnčičevi 41g v Ljubljani.\n\n\n\nDa se spoznamo med seboj. Si izmenjamo izkušnje. Si vlijemo poguma za vztrajanje na poti našega poslanstva – v podjetju\, v družini in v Cerkvi. \n\n\n\n\n\n\nProgram srečanja:\n\n\n\n17.30 Registracija in priložnost za mreženje \n\n\n\n18.00 Dobrodošlica in uvodni nagovor (Benjamin Siter in Andrej Šolinc) \n\n\n\n18.20 Panel pogovor “Podjetništvo in družina – med poslanstvom\, uspehom in ranljivostjo” \n\n\n\n\nMatej Bregant\, Slowatch\n\n\n\nMaja Jerkič\, Freezura\n\n\n\nAndrej Šolinc\, CEED\n\n\n\npovezuje Benjamin Siter\, Družina in Življenje\n\n\n\n\n19.00 Krogi za deljenje izkušenj (pogovor v malih skupinah) \n\n\n\n\nKako v resnici doživljam ravnotežje med podjetjem in družino? Kaj me v tem najbolj izziva –  in kaj mi pomaga ostajati zvest svojemu »zakaj«?\n\n\n\n\n20.00 Zaključek in druženje ob prigrizku \n\n\n\n\n\n\n\n\n\n\n\n\n\n\n\n\nVeseli bomo vaše udeležbe! Zaradi lažje organizacije prosimo za prijave. \n\n\n\nRok za prijavo: Vljudno vas prosimo za prijavo do ponedeljka\, 24. novembra. \n\n\nNalaganje …
URL:https://www.diz.si/dogodek/podjetniki25/
CATEGORIES:Drugi dogodki,Družina in podjetniško življenje
ATTACH;FMTTYPE=image/jpeg:https://www.diz.si/wp-content/uploads/2025/10/podjetniki25-naslovna.webp
END:VEVENT
END:VCALENDAR