BEGIN:VCALENDAR
VERSION:2.0
PRODID:-//Družina in Življenje - ECPv6.15.18//NONSGML v1.0//EN
CALSCALE:GREGORIAN
METHOD:PUBLISH
X-WR-CALNAME:Družina in Življenje
X-ORIGINAL-URL:https://www.diz.si
X-WR-CALDESC:Dogodki za Družina in Življenje
REFRESH-INTERVAL;VALUE=DURATION:PT1H
X-Robots-Tag:noindex
X-PUBLISHED-TTL:PT1H
BEGIN:VTIMEZONE
TZID:Europe/Ljubljana
BEGIN:DAYLIGHT
TZOFFSETFROM:+0100
TZOFFSETTO:+0200
TZNAME:CEST
DTSTART:20250330T010000
END:DAYLIGHT
BEGIN:STANDARD
TZOFFSETFROM:+0200
TZOFFSETTO:+0100
TZNAME:CET
DTSTART:20251026T010000
END:STANDARD
BEGIN:DAYLIGHT
TZOFFSETFROM:+0100
TZOFFSETTO:+0200
TZNAME:CEST
DTSTART:20260329T010000
END:DAYLIGHT
BEGIN:STANDARD
TZOFFSETFROM:+0200
TZOFFSETTO:+0100
TZNAME:CET
DTSTART:20261025T010000
END:STANDARD
BEGIN:DAYLIGHT
TZOFFSETFROM:+0100
TZOFFSETTO:+0200
TZNAME:CEST
DTSTART:20270328T010000
END:DAYLIGHT
BEGIN:STANDARD
TZOFFSETFROM:+0200
TZOFFSETTO:+0100
TZNAME:CET
DTSTART:20271031T010000
END:STANDARD
END:VTIMEZONE
BEGIN:VEVENT
DTSTART;TZID=Europe/Ljubljana:20260416T000000
DTEND;TZID=Europe/Ljubljana:20260419T235959
DTSTAMP:20260420T010207
CREATED:20251111T122937Z
LAST-MODIFIED:20251111T122939Z
UID:53301-1776297600-1776643199@www.diz.si
SUMMARY:DiŽ-evo jadranje za zakonce (pomlad 2026)
DESCRIPTION:Praznujeta obletnico? Ali pa sta si od nekdaj želela na jadranje? Potem je sedaj pravi čas\, da se nam pridružita in (od)jadrata z ostalimi zakonci iz Slovenije po Dalmaciji.\n\n\n\nZa jadranje z nami ne potrebujeta nobenega predznanja. Izkušeni slovenski skiperji bodo poskrbeli za vajino varnost in dobro počutje. Vidva pa bosta lahko odklopila vsakdanje skrbi\, se posvetila drug drugemu in naredila nekaj za vajin zakon. Zraven pa bosta spoznala in se naučila še nekaj osnov jadranja. Odpravita se sama ali skupaj z ostalimi pari iz vaše zakonske skupine. \n\n\n\nJadranje bo potekalo v obliki sproščenega skupinskega jadranja\, kjer bomo združili adrenalin\, dobro družbo\, učenje in zabavo s čudovitimi otoki Dalmacije. Ker mi pripravimo vse potrebno (jadrnica\, skiper\, program\, hrana\, pijača …)\, vi samo pridete in uživate. \n\n\n\nJadranje poteka od četrtka popoldan do nedelje popoldan\, tako da potrebujete le en dan dopusta (petek).Izhodišče: marina Biograd na Moru \n\n\n\nVsak dan bo ekipa lahko med samim jadranjem aktivno sodelovala tako pri jadranju\, kakor tudi pri dnevnih opravilih. Vsak dan bomo spali v drugem zalivu\, si ogledali kakšne zanimivosti\, obiskali nov otok ter spoznavali čare Dalmacije\, ki jih morda do sedaj še niste videli. Jadrnica nam bo omogočila\, da bomo spoznali tudi nekatere skrite kotičke in čudovite zalive\, kjer se bo možno tudi kopati v morju. Program spada med jadralsko najmanj zahtevne in je tako namenjen vsem starostnim skupinam\, tudi starejšim. \n\n\n\nZ nami bo tudi duhovni spremljevalec\, ki bo poskrbel za svete maše in možnost spovedi. Prav tako bomo vsak dan namenili nekaj časa tudi za delo na naših odnosih (po posameznih jadrnicah). Tokratna gosta bosta Slavko in Saša Štern\, izkušen pričevalski par Družine in Življenja. \n\n\n\n\n\n\n\n\n\n\n\n\n\n\n\n\n\n\n\n\n\n\n\n\n\n\n\n\n\n\n\nVeč informacij in prijava\n\n\n\nJadranje poteka v sodelovanju in v organizaciji NaJadranje.si; več informacij in prijavnica na njihovi spletni strani: \n\n\n\nNA PRIJAVO
URL:https://www.diz.si/dogodek/diz-evo-jadranje-za-zakonce-pomlad-2026/
CATEGORIES:Drugi dogodki,Jadranje za zakonce
ATTACH;FMTTYPE=image/jpeg:https://www.diz.si/wp-content/uploads/2024/12/jadranje_za_zakonce_naslovna.webp
END:VEVENT
BEGIN:VEVENT
DTSTART;TZID=Europe/Ljubljana:20260417T000000
DTEND;TZID=Europe/Ljubljana:20260419T235959
DTSTAMP:20260420T010207
CREATED:20251110T204039Z
LAST-MODIFIED:20260326T052107Z
UID:53269-1776384000-1776643199@www.diz.si
SUMMARY:Božje kraljestvo je v vas\, 17.-19. 4. 2026\, Izola
DESCRIPTION:Nadaljevalni seminar Božje kraljestvo je v vas (Lk 17\,21)\n\n\n\nPoglobljen seminar\, ki ponuja odkrivanje resnice o Božjem kraljestvu v nas\, kar predstavlja temelj za gradnjo odnosov\, za katere je vredno živeti. Skozi premišljevanja bomo utrjevali temelje svoje identitete\, zakonske zaveze in poslanstva\, da bi v svoj dom in svet prinašali mir in veselje Božje navzočnosti. \n\n\n\n\n\n\n\n\n\n\n\nSeminar vodita Dani in Vilma Siter\, ustanovitelja Družine in Življenja\, ki za vsako sezono pripravita novo\, navdihujočo temo. \n\n\n\n\n\n\n\n\n\nSeminar lahko konkretno vpliva na izboljšanje odnosov\, saj obravnava naslednja bistvena vsebinska področja: \n\n\n\n\nUtrjevanje osebne identitete Božjega otroka (po krstu) in gradnja na Jezusu Kristusu kot edinem pravem temelju duhovne stavbe.\n\n\n\nSpoznavanje Božje ljubezni in negovanje “priključenosti” na Boga v vsakdanji molitvi in Božji besedi\, saj je Bog vir življenja in ljubezni.\n\n\n\nRazumevanje\, da je življenje boj dveh kraljestev in usposabljanje za uporabo celotne Božje bojne opreme v tem boju.\n\n\n\nRazumevanje\, da je odpuščanje temeljna karakteristika kristjana in da brez pretočnosti milosti ne more priti Božje kraljestvo na zemljo.\n\n\n\nKako v zakonu obnavljati zavezo s tem\, da mož ljubi in žena spoštuje\, s čimer se neguje Božje kraljestvo med zakoncema.\n\n\n\nSpoznanje\, da smo poklicani\, da pričevanjsko živimo evangelij in da se oznanjevanje začne doma\, sredi družine.\n\n\n\n\n\n\n\n\n\n\n\n\n\n\nSeminarja se lahko udeležita le\, če sta se že udeležila temeljnega seminarja Nepozabni trenutki za naju. \n\n\n\n\n\n\n\n\n\nVEČ O SEMINARJURada bi izvedela več >\n\n\n\n\n\nPOGOSTA VPRAŠANJAMorda zanima tudi vaju >\n\n\n\n\n\nDODATNE INFORMACIJEbrigita@diz.si\, 070 410 555\n\n\n\n\n\n\n\n\n\nPrijava na seminar\n\n\n\nPogoj za prijavo je udeležba na temeljnem seminarju Nepozabni trenutki za naju. \n\n\n\nCena seminarja: 370\,00 € \n\n\n\nCena vključuje (cenik): \n\n\n\n\nkotizacijo: 85\,00 €\n\n\n\nnamestitev\, dva polna penziona za dve osebi\, turistična taksa in prijavnina: 285\,00 €\n\n\n\n\nInformacija o odpovedi: Brezplačna odjava s seminarja je možna vsaj 14 dni pred začetkom seminarja\, sicer se kotizacija žal ne povrne. Ob odpovedi do 4 dni pred pričetkom seminarja v hotelu zaračunajo 50% stroškov. \n\n\n\nPRIJAVNICA\n\n\n\nPrijava ni več mogoča. Po potrebi se obrnite na zgornji kontakt.
URL:https://www.diz.si/dogodek/bozje-kraljestvo-je-v-vas-17-19-4-2026-izola/
CATEGORIES:Božje kraljestvo je v vas,Seminarji
ATTACH;FMTTYPE=image/jpeg:https://www.diz.si/wp-content/uploads/2025/04/NS-Bozje-kraljestvo-naslovna.webp
END:VEVENT
END:VCALENDAR